Workbook
Name POWER_USER_EXCEL_CHART_2BE11F07_D536_425E_973E_1E7130578BF4: #REF!
Name POWER_USER_EXCEL_CHART_5CB79512_1C5F_4AE3_879A_21B3693CBDBE: #REF!
Name POWER_USER_EXCEL_CHART_63D56864_BBA7_47C5_B2DC_E7EFE2E45C09: #REF!
Name POWER_USER_EXCEL_CHART_7EA2236E_C4CA_4461_9F60_62EF14C2E22E: #REF!,#REF!,#REF!,#REF!,#REF!,#REF!,#REF!
Name POWER_USER_EXCEL_CHART_8BB8FBD6_26C1_41AB_92FC_66F0F3099217: #REF!
Name POWER_USER_EXCEL_CHART_9FDC5456_C2FF_4E82_BE8E_C10351EDB04E: #REF!
Name POWER_USER_EXCEL_CHART_C4E6A1C0_967F_4598_A438_E30DF51B5EFD: #REF!
Name POWER_USER_EXCEL_CHART_E2BA8E31_B725_408D_9F6D_080BC53DAD1F: #REF!
Name POWER_USER_EXCEL_CHART_F97360F7_C7EA_40DB_AC91_EA152F07BC43: #REF!

Sheet Income_Expenditure Schedule
H2: Legend
H3: Blue = Input
H4: Black = Output/Calculation
I5: Total | K5: 44197 | L5: =EDATE(K5,1) -> 44228 | M5: =EDATE(L5,1) -> 44256 | N5: =EDATE(M5,1) -> 44287 | O5: =EDATE(N5,1) -> 44317 | P5: =EDATE(O5,1) -> 44348 | Q5: =EDATE(P5,1) -> 44378 | R5: =EDATE(Q5,1) -> 44409 | S5: =EDATE(R5,1) -> 44440 | ... BC5: =EDATE(BB5,1) -> 45536
B6: Residential Income | H6: Income Flow
B8: Residential Income
B10: Phase | E10: Rent Roll p/a
B11: Phase 1 | E11: ='Accom_Phase Schedule'!M53*12 -> 1428000 | H11: =B11 -> Phase 1 | I11: =SUM(K11:BC11) -> 3892581 | K11: =($E11/12)*K108*K120 -> 0 | L11: =($E11/12)*L108*L120 -> 0 | M11: =($E11/12)*M108*M120 -> 0 | N11: =($E11/12)*N108*N120 -> 0 | O11: =($E11/12)*O108*O120 -> 0 | P11: =($E11/12)*P108*P120 -> 0 | Q11: =($E11/12)*Q108*Q120 -> 0 | R11: =($E11/12)*R108*R120 -> 0 | ... BC11: =($E11/12)*BC108*BC120 -> 0
B12: Phase 2 | E12: ='Accom_Phase Schedule'!M54*12 -> 2088000 | H12: =B12 -> Phase 2 | I12: =SUM(K12:BC12) -> 4930313.1 | K12: =($E12/12)*K109*K121 -> 0 | L12: =($E12/12)*L109*L121 -> 0 | M12: =($E12/12)*M109*M121 -> 0 | N12: =($E12/12)*N109*N121 -> 0 | O12: =($E12/12)*O109*O121 -> 0 | P12: =($E12/12)*P109*P121 -> 0 | Q12: =($E12/12)*Q109*Q121 -> 0 | R12: =($E12/12)*R109*R121 -> 0 | ... BC12: =($E12/12)*BC109*BC121 -> 0
B13: Phase 3 | E13: ='Accom_Phase Schedule'!M55*12 -> 2880000 | H13: =B13 -> Phase 3 | I13: =SUM(K13:BC13) -> 5530553.8 | K13: =($E13/12)*K110*K122 -> 0 | L13: =($E13/12)*L110*L122 -> 0 | M13: =($E13/12)*M110*M122 -> 0 | N13: =($E13/12)*N110*N122 -> 0 | O13: =($E13/12)*O110*O122 -> 0 | P13: =($E13/12)*P110*P122 -> 0 | Q13: =($E13/12)*Q110*Q122 -> 0 | R13: =($E13/12)*R110*R122 -> 0 | ... BC13: =($E13/12)*BC110*BC122 -> 0
B14: Phase 4 | E14: ='Accom_Phase Schedule'!M56*12 -> 2388000 | H14: =B14 -> Phase 4 | I14: =SUM(K14:BC14) -> 3409926.2 | K14: =($E14/12)*K111*K123 -> 0 | L14: =($E14/12)*L111*L123 -> 0 | M14: =($E14/12)*M111*M123 -> 0 | N14: =($E14/12)*N111*N123 -> 0 | O14: =($E14/12)*O111*O123 -> 0 | P14: =($E14/12)*P111*P123 -> 0 | Q14: =($E14/12)*Q111*Q123 -> 0 | R14: =($E14/12)*R111*R123 -> 0 | ... BC14: =($E14/12)*BC111*BC123 -> 0
B15: Phase 5 | E15: ='Accom_Phase Schedule'!M57*12 -> 2160000 | H15: =B15 -> Phase 5 | I15: =SUM(K15:BC15) -> 1971600 | K15: =($E15/12)*K112*K124 -> 0 | L15: =($E15/12)*L112*L124 -> 0 | M15: =($E15/12)*M112*M124 -> 0 | N15: =($E15/12)*N112*N124 -> 0 | O15: =($E15/12)*O112*O124 -> 0 | P15: =($E15/12)*P112*P124 -> 0 | Q15: =($E15/12)*Q112*Q124 -> 0 | R15: =($E15/12)*R112*R124 -> 0 | ... BC15: =($E15/12)*BC112*BC124 -> 0
B17: Total Private | E17: =SUM(E11:E16) -> 10944000 | H17: =B17 -> Total Private | I17: =SUM(K17:BC17) -> 19734974 | K17: =SUM(K11:K15) -> 0 | L17: =SUM(L11:L15) -> 0 | M17: =SUM(M11:M15) -> 0 | N17: =SUM(N11:N15) -> 0 | O17: =SUM(O11:O15) -> 0 | P17: =SUM(P11:P15) -> 0 | Q17: =SUM(Q11:Q15) -> 0 | R17: =SUM(R11:R15) -> 0 | ... BC17: =SUM(BC11:BC15) -> 0
B19: Part V
B21: Phase | E21: Rent Roll p/a
B22: =B11 -> Phase 1 | E22: ='Accom_Phase Schedule'!N53*12 -> 105000 | H22: =B22 -> Phase 1 | I22: =SUM(K22:BC22) -> 305900 | K22: =($E22/12)*K108 -> 0 | L22: =($E22/12)*L108 -> 0 | M22: =($E22/12)*M108 -> 0 | N22: =($E22/12)*N108 -> 0 | O22: =($E22/12)*O108 -> 0 | P22: =($E22/12)*P108 -> 0 | Q22: =($E22/12)*Q108 -> 0 | R22: =($E22/12)*R108 -> 0 | ... BC22: =($E22/12)*BC108 -> 0
B23: =B12 -> Phase 2 | E23: ='Accom_Phase Schedule'!N54*12 -> 153000 | H23: =B23 -> Phase 2 | I23: =SUM(K23:BC23) -> 389257.5 | K23: =($E23/12)*K109 -> 0 | L23: =($E23/12)*L109 -> 0 | M23: =($E23/12)*M109 -> 0 | N23: =($E23/12)*N109 -> 0 | O23: =($E23/12)*O109 -> 0 | P23: =($E23/12)*P109 -> 0 | Q23: =($E23/12)*Q109 -> 0 | R23: =($E23/12)*R109 -> 0 | ... BC23: =($E23/12)*BC109 -> 0
B24: =B13 -> Phase 3 | E24: ='Accom_Phase Schedule'!N55*12 -> 288000 | H24: =B24 -> Phase 3 | I24: =SUM(K24:BC24) -> 601920 | K24: =($E24/12)*K110 -> 0 | L24: =($E24/12)*L110 -> 0 | M24: =($E24/12)*M110 -> 0 | N24: =($E24/12)*N110 -> 0 | O24: =($E24/12)*O110 -> 0 | P24: =($E24/12)*P110 -> 0 | Q24: =($E24/12)*Q110 -> 0 | R24: =($E24/12)*R110 -> 0 | ... BC24: =($E24/12)*BC110 -> 0
B25: =B14 -> Phase 4 | E25: ='Accom_Phase Schedule'!N56*12 -> 105000 | H25: =B25 -> Phase 4 | I25: =SUM(K25:BC25) -> 166950 | K25: =($E25/12)*K111 -> 0 | L25: =($E25/12)*L111 -> 0 | M25: =($E25/12)*M111 -> 0 | N25: =($E25/12)*N111 -> 0 | O25: =($E25/12)*O111 -> 0 | P25: =($E25/12)*P111 -> 0 | Q25: =($E25/12)*Q111 -> 0 | R25: =($E25/12)*R111 -> 0 | ... BC25: =($E25/12)*BC111 -> 0
B26: =B15 -> Phase 5 | E26: ='Accom_Phase Schedule'!N57*12 -> 144000 | H26: =B26 -> Phase 5 | I26: =SUM(K26:BC26) -> 152640 | K26: =($E26/12)*K112 -> 0 | L26: =($E26/12)*L112 -> 0 | M26: =($E26/12)*M112 -> 0 | N26: =($E26/12)*N112 -> 0 | O26: =($E26/12)*O112 -> 0 | P26: =($E26/12)*P112 -> 0 | Q26: =($E26/12)*Q112 -> 0 | R26: =($E26/12)*R112 -> 0 | ... BC26: =($E26/12)*BC112 -> 0
B28: Total Part V | E28: =SUM(E22:E27) -> 795000 | H28: =B28 -> Total Part V | I28: =SUM(K28:BC28) -> 1616667.5 | K28: =SUM(K22:K26) -> 0 | L28: =SUM(L22:L26) -> 0 | M28: =SUM(M22:M26) -> 0 | N28: =SUM(N22:N26) -> 0 | O28: =SUM(O22:O26) -> 0 | P28: =SUM(P22:P26) -> 0 | Q28: =SUM(Q22:Q26) -> 0 | R28: =SUM(R22:R26) -> 0 | ... BC28: =SUM(BC22:BC26) -> 0
B30: Gross Rent
B32: Total Gross Rent | E32: =E17+E28 -> 11739000 | H32: =B32 -> Total Gross Rent | I32: =SUM(K32:BC32) -> 21351642 | K32: =K17+K28 -> 0 | L32: =L17+L28 -> 0 | M32: =M17+M28 -> 0 | N32: =N17+N28 -> 0 | O32: =O17+O28 -> 0 | P32: =P17+P28 -> 0 | Q32: =Q17+Q28 -> 0 | R32: =R17+R28 -> 0 | ... BC32: =BC17+BC28 -> 0
B34: Residential Management
B36: Admin Costs
B38: Cost | C38: Assumption | D38: Frequency | E38: Per annum
B39: Accountancy | C39: 2500 | D39: Quarterly | E39: =C39*(IF(D39="monthly",12,IF(D39="Quarterly",4,2))) -> 10000 | H39: =B39 -> Accountancy | I39: =SUM(K39:BC39) -> -28987.5 | K39: =(K$17>0)*IF(MOD(DATEDIF($K$5,K$5,"m"),IF($D39="monthly",1,IF($D39="Quarterly",3,6)))=0,-$C39,0)*K$100 -> 0 | L39: =(L$17>0)*IF(MOD(DATEDIF($K$5,L$5,"m"),IF($D39="monthly",1,IF($D39="Quarterly",3,6)))=0,-$C39,0)*L$100 -> 0 | M39: =(M$17>0)*IF(MOD(DATEDIF($K$5,M$5,"m"),IF($D39="monthly",1,IF($D39="Quarterly",3,6)))=0,-$C39,0)*M$100 -> 0 | N39: =(N$17>0)*IF(MOD(DATEDIF($K$5,N$5,"m"),IF($D39="monthly",1,IF($D39="Quarterly",3,6)))=0,-$C39,0)*N$100 -> 0 | O39: =(O$17>0)*IF(MOD(DATEDIF($K$5,O$5,"m"),IF($D39="monthly",1,IF($D39="Quarterly",3,6)))=0,-$C39,0)*O$100 -> 0 | P39: =(P$17>0)*IF(MOD(DATEDIF($K$5,P$5,"m"),IF($D39="monthly",1,IF($D39="Quarterly",3,6)))=0,-$C39,0)*P$100 -> 0 | Q39: =(Q$17>0)*IF(MOD(DATEDIF($K$5,Q$5,"m"),IF($D39="monthly",1,IF($D39="Quarterly",3,6)))=0,-$C39,0)*Q$100 -> 0 | R39: =(R$17>0)*IF(MOD(DATEDIF($K$5,R$5,"m"),IF($D39="monthly",1,IF($D39="Quarterly",3,6)))=0,-$C39,0)*R$100 -> 0 | ... BC39: =(BC$17>0)*IF(MOD(DATEDIF($K$5,BC$5,"m"),IF($D39="monthly",1,IF($D39="Quarterly",3,6)))=0,-$C39,0)*BC$100 -> 0
B40: Insurance | C40: 15000 | D40: Bi-annual | E40: =C40*(IF(D40="monthly",12,IF(D40="Quarterly",4,2))) -> 30000 | H40: =B40 -> Insurance | I40: =SUM(K40:BC40) -> -79200 | K40: =(K$17>0)*IF(MOD(DATEDIF($K$5,K$5,"m"),IF($D40="monthly",1,IF($D40="Quarterly",3,6)))=0,-$C40,0)*K$100 -> 0 | L40: =(L$17>0)*IF(MOD(DATEDIF($K$5,L$5,"m"),IF($D40="monthly",1,IF($D40="Quarterly",3,6)))=0,-$C40,0)*L$100 -> 0 | M40: =(M$17>0)*IF(MOD(DATEDIF($K$5,M$5,"m"),IF($D40="monthly",1,IF($D40="Quarterly",3,6)))=0,-$C40,0)*M$100 -> 0 | N40: =(N$17>0)*IF(MOD(DATEDIF($K$5,N$5,"m"),IF($D40="monthly",1,IF($D40="Quarterly",3,6)))=0,-$C40,0)*N$100 -> 0 | O40: =(O$17>0)*IF(MOD(DATEDIF($K$5,O$5,"m"),IF($D40="monthly",1,IF($D40="Quarterly",3,6)))=0,-$C40,0)*O$100 -> 0 | P40: =(P$17>0)*IF(MOD(DATEDIF($K$5,P$5,"m"),IF($D40="monthly",1,IF($D40="Quarterly",3,6)))=0,-$C40,0)*P$100 -> 0 | Q40: =(Q$17>0)*IF(MOD(DATEDIF($K$5,Q$5,"m"),IF($D40="monthly",1,IF($D40="Quarterly",3,6)))=0,-$C40,0)*Q$100 -> 0 | R40: =(R$17>0)*IF(MOD(DATEDIF($K$5,R$5,"m"),IF($D40="monthly",1,IF($D40="Quarterly",3,6)))=0,-$C40,0)*R$100 -> 0 | ... BC40: =(BC$17>0)*IF(MOD(DATEDIF($K$5,BC$5,"m"),IF($D40="monthly",1,IF($D40="Quarterly",3,6)))=0,-$C40,0)*BC$100 -> 0
B41: Bank Charges | C41: 150 | D41: Monthly | E41: =C41*(IF(D41="monthly",12,IF(D41="Quarterly",4,2))) -> 1800 | H41: =B41 -> Bank Charges | I41: =SUM(K41:BC41) -> -5378.25 | K41: =(K$17>0)*IF(MOD(DATEDIF($K$5,K$5,"m"),IF($D41="monthly",1,IF($D41="Quarterly",3,6)))=0,-$C41,0)*K$100 -> 0 | L41: =(L$17>0)*IF(MOD(DATEDIF($K$5,L$5,"m"),IF($D41="monthly",1,IF($D41="Quarterly",3,6)))=0,-$C41,0)*L$100 -> 0 | M41: =(M$17>0)*IF(MOD(DATEDIF($K$5,M$5,"m"),IF($D41="monthly",1,IF($D41="Quarterly",3,6)))=0,-$C41,0)*M$100 -> 0 | N41: =(N$17>0)*IF(MOD(DATEDIF($K$5,N$5,"m"),IF($D41="monthly",1,IF($D41="Quarterly",3,6)))=0,-$C41,0)*N$100 -> 0 | O41: =(O$17>0)*IF(MOD(DATEDIF($K$5,O$5,"m"),IF($D41="monthly",1,IF($D41="Quarterly",3,6)))=0,-$C41,0)*O$100 -> 0 | P41: =(P$17>0)*IF(MOD(DATEDIF($K$5,P$5,"m"),IF($D41="monthly",1,IF($D41="Quarterly",3,6)))=0,-$C41,0)*P$100 -> 0 | Q41: =(Q$17>0)*IF(MOD(DATEDIF($K$5,Q$5,"m"),IF($D41="monthly",1,IF($D41="Quarterly",3,6)))=0,-$C41,0)*Q$100 -> 0 | R41: =(R$17>0)*IF(MOD(DATEDIF($K$5,R$5,"m"),IF($D41="monthly",1,IF($D41="Quarterly",3,6)))=0,-$C41,0)*R$100 -> 0 | ... BC41: =(BC$17>0)*IF(MOD(DATEDIF($K$5,BC$5,"m"),IF($D41="monthly",1,IF($D41="Quarterly",3,6)))=0,-$C41,0)*BC$100 -> 0
B42: Valuations | C42: 7500 | D42: Bi-annual | E42: =C42*(IF(D42="monthly",12,IF(D42="Quarterly",4,2))) -> 15000 | H42: =B42 -> Valuations | I42: =SUM(K42:BC42) -> -39600 | K42: =(K$17>0)*IF(MOD(DATEDIF($K$5,K$5,"m"),IF($D42="monthly",1,IF($D42="Quarterly",3,6)))=0,-$C42,0)*K$100 -> 0 | L42: =(L$17>0)*IF(MOD(DATEDIF($K$5,L$5,"m"),IF($D42="monthly",1,IF($D42="Quarterly",3,6)))=0,-$C42,0)*L$100 -> 0 | M42: =(M$17>0)*IF(MOD(DATEDIF($K$5,M$5,"m"),IF($D42="monthly",1,IF($D42="Quarterly",3,6)))=0,-$C42,0)*M$100 -> 0 | N42: =(N$17>0)*IF(MOD(DATEDIF($K$5,N$5,"m"),IF($D42="monthly",1,IF($D42="Quarterly",3,6)))=0,-$C42,0)*N$100 -> 0 | O42: =(O$17>0)*IF(MOD(DATEDIF($K$5,O$5,"m"),IF($D42="monthly",1,IF($D42="Quarterly",3,6)))=0,-$C42,0)*O$100 -> 0 | P42: =(P$17>0)*IF(MOD(DATEDIF($K$5,P$5,"m"),IF($D42="monthly",1,IF($D42="Quarterly",3,6)))=0,-$C42,0)*P$100 -> 0 | Q42: =(Q$17>0)*IF(MOD(DATEDIF($K$5,Q$5,"m"),IF($D42="monthly",1,IF($D42="Quarterly",3,6)))=0,-$C42,0)*Q$100 -> 0 | R42: =(R$17>0)*IF(MOD(DATEDIF($K$5,R$5,"m"),IF($D42="monthly",1,IF($D42="Quarterly",3,6)))=0,-$C42,0)*R$100 -> 0 | ... BC42: =(BC$17>0)*IF(MOD(DATEDIF($K$5,BC$5,"m"),IF($D42="monthly",1,IF($D42="Quarterly",3,6)))=0,-$C42,0)*BC$100 -> 0
E43: =C43*(IF(D43="monthly",12,IF(D43="Quarterly",4,2))) -> 0
B44: Total Admin Costs | E44: =SUM(E39:E43) -> 56800 | H44: =B44 -> Total Admin Costs | I44: =SUM(K44:BC44) -> -153165.75 | K44: =SUM(K39:K42) -> 0 | L44: =SUM(L39:L42) -> 0 | M44: =SUM(M39:M42) -> 0 | N44: =SUM(N39:N42) -> 0 | O44: =SUM(O39:O42) -> 0 | P44: =SUM(P39:P42) -> 0 | Q44: =SUM(Q39:Q42) -> 0 | R44: =SUM(R39:R42) -> 0 | ... BC44: =SUM(BC39:BC42) -> 0
B46: Property Costs
B48: Cost | C48: Assumption | D48: Measurement | E48: Per annum
B49: Local Property Tax p/a | C49: 600 | D49: per unit | E49: =C49*'Accom_Phase Schedule'!$D$45 -> 300000 | H49: =B49 -> Local Property Tax p/a | I49: =SUM(K49:BC49) -> -697800 | K49: {=(K$5<$C$99)*(SUMPRODUCT(--(K$5>='Accom_Phase Schedule'!$E$65:$E$69),--(MOD(MONTH(K$5),12)=MOD(MONTH('Accom_Phase Schedule'!$E$65:$E$69),12)),'Accom_Phase Schedule'!$J$53:$J$57)*-$C49)*K$100} -> 0 | L49: {=(L$5<$C$99)*(SUMPRODUCT(--(L$5>='Accom_Phase Schedule'!$E$65:$E$69),--(MOD(MONTH(L$5),12)=MOD(MONTH('Accom_Phase Schedule'!$E$65:$E$69),12)),'Accom_Phase Schedule'!$J$53:$J$57)*-$C49)*L$100} -> 0 | M49: {=(M$5<$C$99)*(SUMPRODUCT(--(M$5>='Accom_Phase Schedule'!$E$65:$E$69),--(MOD(MONTH(M$5),12)=MOD(MONTH('Accom_Phase Schedule'!$E$65:$E$69),12)),'Accom_Phase Schedule'!$J$53:$J$57)*-$C49)*M$100} -> 0 | N49: {=(N$5<$C$99)*(SUMPRODUCT(--(N$5>='Accom_Phase Schedule'!$E$65:$E$69),--(MOD(MONTH(N$5),12)=MOD(MONTH('Accom_Phase Schedule'!$E$65:$E$69),12)),'Accom_Phase Schedule'!$J$53:$J$57)*-$C49)*N$100} -> 0 | O49: {=(O$5<$C$99)*(SUMPRODUCT(--(O$5>='Accom_Phase Schedule'!$E$65:$E$69),--(MOD(MONTH(O$5),12)=MOD(MONTH('Accom_Phase Schedule'!$E$65:$E$69),12)),'Accom_Phase Schedule'!$J$53:$J$57)*-$C49)*O$100} -> 0 | P49: {=(P$5<$C$99)*(SUMPRODUCT(--(P$5>='Accom_Phase Schedule'!$E$65:$E$69),--(MOD(MONTH(P$5),12)=MOD(MONTH('Accom_Phase Schedule'!$E$65:$E$69),12)),'Accom_Phase Schedule'!$J$53:$J$57)*-$C49)*P$100} -> 0 | Q49: {=(Q$5<$C$99)*(SUMPRODUCT(--(Q$5>='Accom_Phase Schedule'!$E$65:$E$69),--(MOD(MONTH(Q$5),12)=MOD(MONTH('Accom_Phase Schedule'!$E$65:$E$69),12)),'Accom_Phase Schedule'!$J$53:$J$57)*-$C49)*Q$100} -> 0 | R49: {=(R$5<$C$99)*(SUMPRODUCT(--(R$5>='Accom_Phase Schedule'!$E$65:$E$69),--(MOD(MONTH(R$5),12)=MOD(MONTH('Accom_Phase Schedule'!$E$65:$E$69),12)),'Accom_Phase Schedule'!$J$53:$J$57)*-$C49)*R$100} -> 0 | ... BC49: {=(BC$5<$C$99)*(SUMPRODUCT(--(BC$5>='Accom_Phase Schedule'!$E$65:$E$69),--(MOD(MONTH(BC$5),12)=MOD(MONTH('Accom_Phase Schedule'!$E$65:$E$69),12)),'Accom_Phase Schedule'!$J$53:$J$57)*-$C49)*BC$100} -> 0
B50: RTB Registrations | C50: 120 | D50: per unit | E50: =C50*'Accom_Phase Schedule'!$D$45 -> 60000 | H50: =B50 -> RTB Registrations | I50: =SUM(K50:BC50) -> -65746.254 | K50: =(K5<$C$99)*((K128-J128)*-$C$50+AND(K5>EDATE('Accom_Phase Schedule'!$E$65,12),K5<$C$99)*-$C$103*($C$50/12)*(K$128/MAX($K$128:$BC$128)))*K$100 -> 0 | L50: =(L5<$C$99)*((L128-K128)*-$C$50+AND(L5>EDATE('Accom_Phase Schedule'!$E$65,12),L5<$C$99)*-$C$103*($C$50/12)*(L$128/MAX($K$128:$BC$128)))*L$100 -> 0 | M50: =(M5<$C$99)*((M128-L128)*-$C$50+AND(M5>EDATE('Accom_Phase Schedule'!$E$65,12),M5<$C$99)*-$C$103*($C$50/12)*(M$128/MAX($K$128:$BC$128)))*M$100 -> 0 | N50: =(N5<$C$99)*((N128-M128)*-$C$50+AND(N5>EDATE('Accom_Phase Schedule'!$E$65,12),N5<$C$99)*-$C$103*($C$50/12)*(N$128/MAX($K$128:$BC$128)))*N$100 -> 0 | O50: =(O5<$C$99)*((O128-N128)*-$C$50+AND(O5>EDATE('Accom_Phase Schedule'!$E$65,12),O5<$C$99)*-$C$103*($C$50/12)*(O$128/MAX($K$128:$BC$128)))*O$100 -> 0 | P50: =(P5<$C$99)*((P128-O128)*-$C$50+AND(P5>EDATE('Accom_Phase Schedule'!$E$65,12),P5<$C$99)*-$C$103*($C$50/12)*(P$128/MAX($K$128:$BC$128)))*P$100 -> 0 | Q50: =(Q5<$C$99)*((Q128-P128)*-$C$50+AND(Q5>EDATE('Accom_Phase Schedule'!$E$65,12),Q5<$C$99)*-$C$103*($C$50/12)*(Q$128/MAX($K$128:$BC$128)))*Q$100 -> 0 | R50: =(R5<$C$99)*((R128-Q128)*-$C$50+AND(R5>EDATE('Accom_Phase Schedule'!$E$65,12),R5<$C$99)*-$C$103*($C$50/12)*(R$128/MAX($K$128:$BC$128)))*R$100 -> 0 | ... BC50: =(BC5<$C$99)*((BC128-BB128)*-$C$50+AND(BC5>EDATE('Accom_Phase Schedule'!$E$65,12),BC5<$C$99)*-$C$103*($C$50/12)*(BC$128/MAX($K$128:$BC$128)))*BC$100 -> 0
B51: Block Management p/a | C51: 400 | D51: per unit | E51: =C51*'Accom_Phase Schedule'!$D$45 -> 200000 | H51: =B51 -> Block Management p/a | I51: =SUM(K51:BC51) -> -393571.43 | K51: =((K$128/MAX($K$128:$BC$128))*-($E51/12))*K$100 -> 0 | L51: =((L$128/MAX($K$128:$BC$128))*-($E51/12))*L$100 -> 0 | M51: =((M$128/MAX($K$128:$BC$128))*-($E51/12))*M$100 -> 0 | N51: =((N$128/MAX($K$128:$BC$128))*-($E51/12))*N$100 -> 0 | O51: =((O$128/MAX($K$128:$BC$128))*-($E51/12))*O$100 -> 0 | P51: =((P$128/MAX($K$128:$BC$128))*-($E51/12))*P$100 -> 0 | Q51: =((Q$128/MAX($K$128:$BC$128))*-($E51/12))*Q$100 -> 0 | R51: =((R$128/MAX($K$128:$BC$128))*-($E51/12))*R$100 -> 0 | ... BC51: =((BC$128/MAX($K$128:$BC$128))*-($E51/12))*BC$100 -> 0
B52: Estate Management p/a | C52: 350 | D52: per unit | E52: =C52*'Accom_Phase Schedule'!$D$45 -> 175000 | H52: =B52 -> Estate Management p/a | I52: =SUM(K52:BC52) -> -344375 | K52: =((K$128/MAX($K$128:$BC$128))*-($E52/12))*K$100 -> 0 | L52: =((L$128/MAX($K$128:$BC$128))*-($E52/12))*L$100 -> 0 | M52: =((M$128/MAX($K$128:$BC$128))*-($E52/12))*M$100 -> 0 | N52: =((N$128/MAX($K$128:$BC$128))*-($E52/12))*N$100 -> 0 | O52: =((O$128/MAX($K$128:$BC$128))*-($E52/12))*O$100 -> 0 | P52: =((P$128/MAX($K$128:$BC$128))*-($E52/12))*P$100 -> 0 | Q52: =((Q$128/MAX($K$128:$BC$128))*-($E52/12))*Q$100 -> 0 | R52: =((R$128/MAX($K$128:$BC$128))*-($E52/12))*R$100 -> 0 | ... BC52: =((BC$128/MAX($K$128:$BC$128))*-($E52/12))*BC$100 -> 0
B53: Maintenance Cost p/a | C53: 500 | D53: per unit | E53: =C53*'Accom_Phase Schedule'!$D$45 -> 250000 | H53: =B53 -> Maintenance Cost p/a | I53: =SUM(K53:BC53) -> -491964.29 | K53: =((K$128/MAX($K$128:$BC$128))*-($E53/12))*K$100 -> 0 | L53: =((L$128/MAX($K$128:$BC$128))*-($E53/12))*L$100 -> 0 | M53: =((M$128/MAX($K$128:$BC$128))*-($E53/12))*M$100 -> 0 | N53: =((N$128/MAX($K$128:$BC$128))*-($E53/12))*N$100 -> 0 | O53: =((O$128/MAX($K$128:$BC$128))*-($E53/12))*O$100 -> 0 | P53: =((P$128/MAX($K$128:$BC$128))*-($E53/12))*P$100 -> 0 | Q53: =((Q$128/MAX($K$128:$BC$128))*-($E53/12))*Q$100 -> 0 | R53: =((R$128/MAX($K$128:$BC$128))*-($E53/12))*R$100 -> 0 | ... BC53: =((BC$128/MAX($K$128:$BC$128))*-($E53/12))*BC$100 -> 0
B54: Furniture Expense p/a | C54: 500 | D54: per unit | E54: =C54*'Accom_Phase Schedule'!$D$45 -> 250000 | H54: =B54 -> Furniture Expense p/a | I54: =SUM(K54:BC54) -> -491964.29 | K54: =((K$128/MAX($K$128:$BC$128))*-($E54/12))*K$100 -> 0 | L54: =((L$128/MAX($K$128:$BC$128))*-($E54/12))*L$100 -> 0 | M54: =((M$128/MAX($K$128:$BC$128))*-($E54/12))*M$100 -> 0 | N54: =((N$128/MAX($K$128:$BC$128))*-($E54/12))*N$100 -> 0 | O54: =((O$128/MAX($K$128:$BC$128))*-($E54/12))*O$100 -> 0 | P54: =((P$128/MAX($K$128:$BC$128))*-($E54/12))*P$100 -> 0 | Q54: =((Q$128/MAX($K$128:$BC$128))*-($E54/12))*Q$100 -> 0 | R54: =((R$128/MAX($K$128:$BC$128))*-($E54/12))*R$100 -> 0 | ... BC54: =((BC$128/MAX($K$128:$BC$128))*-($E54/12))*BC$100 -> 0
...

Sheet Accom_Phase Schedule
B2: Accomodation Schedule
B4: Unit Schedule
B5: Private | E5: Part V
B6: Apt / Type | C6: NIA Sqft | D6: Rent pm | E6: Council Rent | F6: Council Price | I6: Apt / Type | J6: # of units | K6: % of units | L6: Rent Roll | M6: % rent roll | N6: Rent psf NIA
B7: Studio | C7: 500 | D7: 1100 | E7: =MROUND(D7*0.8,25) -> 875 | F7: =MROUND(C7*400,5000) -> 200000 | I7: =B7 -> Studio | J7: =SUMIF($C$21:$C$34,I7,$D$21:$D$34)+SUMIF($J$21:$J$34,I7,$K$21:$K$34) -> 100 | K7: =J7/SUM($J$7:$J$15) -> 0.2 | L7: =SUMIF($C$21:$C$34,I7,$F$21:$F$34)+SUMIF($J$21:$J$34,I7,$M$21:$M$34) -> 105500 | M7: =L7/SUM($L$7:$L$15) -> 0.10784564 | N7: =IFERROR(D7*12/C7,0) -> 26.4
B8: 1 Bed Apt Type.1 | C8: 600 | D8: 1500 | E8: =MROUND(D8*0.8,25) -> 1200 | F8: =MROUND(C8*400,5000) -> 240000 | I8: =B8 -> 1 Bed Apt Type.1 | J8: =SUMIF($C$21:$C$34,I8,$D$21:$D$34)+SUMIF($J$21:$J$34,I8,$K$21:$K$34) -> 100 | K8: =J8/SUM($J$7:$J$15) -> 0.2 | L8: =SUMIF($C$21:$C$34,I8,$F$21:$F$34)+SUMIF($J$21:$J$34,I8,$M$21:$M$34) -> 147000 | M8: =L8/SUM($L$7:$L$15) -> 0.15026834 | N8: =IFERROR(D8*12/C8,0) -> 30
B9: 1 Bed Apt Type 2 | C9: 650 | D9: 1600 | E9: =MROUND(D9*0.8,25) -> 1275 | F9: =MROUND(C9*400,5000) -> 260000 | I9: =B9 -> 1 Bed Apt Type 2 | J9: =SUMIF($C$21:$C$34,I9,$D$21:$D$34)+SUMIF($J$21:$J$34,I9,$K$21:$K$34) -> 50 | K9: =J9/SUM($J$7:$J$15) -> 0.1 | L9: =SUMIF($C$21:$C$34,I9,$F$21:$F$34)+SUMIF($J$21:$J$34,I9,$M$21:$M$34) -> 76750 | M9: =L9/SUM($L$7:$L$15) -> 0.078456427 | N9: =IFERROR(D9*12/C9,0) -> 29.538462
B10: 2 Bed Apt Type 1 | C10: 750 | D10: 2200 | E10: =MROUND(D10*0.8,25) -> 1750 | F10: =MROUND(C10*400,5000) -> 300000 | I10: =B10 -> 2 Bed Apt Type 1 | J10: =SUMIF($C$21:$C$34,I10,$D$21:$D$34)+SUMIF($J$21:$J$34,I10,$K$21:$K$34) -> 50 | K10: =J10/SUM($J$7:$J$15) -> 0.1 | L10: =SUMIF($C$21:$C$34,I10,$F$21:$F$34)+SUMIF($J$21:$J$34,I10,$M$21:$M$34) -> 110000 | M10: =L10/SUM($L$7:$L$15) -> 0.11244569 | N10: =IFERROR(D10*12/C10,0) -> 35.2
B11: 2 Bed Apt Type 2 | C11: 800 | D11: 2400 | E11: =MROUND(D11*0.8,25) -> 1925 | F11: =MROUND(C11*400,5000) -> 320000 | I11: =B11 -> 2 Bed Apt Type 2 | J11: =SUMIF($C$21:$C$34,I11,$D$21:$D$34)+SUMIF($J$21:$J$34,I11,$K$21:$K$34) -> 100 | K11: =J11/SUM($J$7:$J$15) -> 0.2 | L11: =SUMIF($C$21:$C$34,I11,$F$21:$F$34)+SUMIF($J$21:$J$34,I11,$M$21:$M$34) -> 240000 | M11: =L11/SUM($L$7:$L$15) -> 0.24533606 | N11: =IFERROR(D11*12/C11,0) -> 36
B12: 3 Bed Apt Type 1 | C12: 1000 | D12: 3000 | E12: =MROUND(D12*0.8,25) -> 2400 | F12: =MROUND(C12*400,5000) -> 400000 | I12: =B12 -> 3 Bed Apt Type 1 | J12: =SUMIF($C$21:$C$34,I12,$D$21:$D$34)+SUMIF($J$21:$J$34,I12,$K$21:$K$34) -> 50 | K12: =J12/SUM($J$7:$J$15) -> 0.1 | L12: =SUMIF($C$21:$C$34,I12,$F$21:$F$34)+SUMIF($J$21:$J$34,I12,$M$21:$M$34) -> 144000 | M12: =L12/SUM($L$7:$L$15) -> 0.14720164 | N12: =IFERROR(D12*12/C12,0) -> 36
B13: 3 Bed Apt Type 2 | C13: 1100 | D13: 3100 | E13: =MROUND(D13*0.8,25) -> 2475 | F13: =MROUND(C13*400,5000) -> 440000 | I13: =B13 -> 3 Bed Apt Type 2 | J13: =SUMIF($C$21:$C$34,I13,$D$21:$D$34)+SUMIF($J$21:$J$34,I13,$K$21:$K$34) -> 50 | K13: =J13/SUM($J$7:$J$15) -> 0.1 | L13: =SUMIF($C$21:$C$34,I13,$F$21:$F$34)+SUMIF($J$21:$J$34,I13,$M$21:$M$34) -> 155000 | M13: =L13/SUM($L$7:$L$15) -> 0.1584462 | N13: =IFERROR(D13*12/C13,0) -> 33.818182
I14: =B14 -> 0 | J14: =SUMIF($C$21:$C$34,I14,$D$21:$D$34)+SUMIF($J$21:$J$34,I14,$K$21:$K$34) -> 0 | K14: =J14/SUM($J$7:$J$15) -> 0 | L14: =SUMIF($C$21:$C$34,I14,$F$21:$F$34)+SUMIF($J$21:$J$34,I14,$M$21:$M$34) -> 0 | M14: =L14/SUM($L$7:$L$15) -> 0 | N14: =IFERROR(D14*12/C14,0) -> 0
I15: =B15 -> 0 | J15: =SUMIF($C$21:$C$34,I15,$D$21:$D$34)+SUMIF($J$21:$J$34,I15,$K$21:$K$34) -> 0 | K15: =J15/SUM($J$7:$J$15) -> 0 | L15: =SUMIF($C$21:$C$34,I15,$F$21:$F$34)+SUMIF($J$21:$J$34,I15,$M$21:$M$34) -> 0 | M15: =L15/SUM($L$7:$L$15) -> 0 | N15: =IFERROR(D15*12/C15,0) -> 0
B17: Accomodation Schedule
B19: Private | I19: Part V
B20: Block | C20: Apt / Type | D20: # of units | E20: NIA sqft | F20: Rent Roll pm | I20: Block | J20: Apt / Type | K20: # of units | L20: NIA sqft | M20: Rent Roll pm | N20: Council GDV
B21: 1 | C21: Studio | D21: 40 | E21: =_xlfn.IFNA(D21*INDEX($C$7:$C$15,MATCH(C21,$B$7:$B$15,0)),0) -> 20000 | F21: =_xlfn.IFNA(D21*INDEX($D$7:$D$15,MATCH(C21,$B$7:$B$15,0)),0) -> 44000 | I21: 1 | J21: Studio | K21: 10 | L21: =_xlfn.IFNA(K21*INDEX($C$7:$C$15,MATCH(J21,$B$7:$B$15,0)),0) -> 5000 | M21: =($B$74="Rent to Council")*_xlfn.IFNA(K21*INDEX($E$7:$E$15,MATCH(J21,$B$7:$B$15,0)),0) -> 8750 | N21: =($B$74="Sale to Council")*_xlfn.IFNA(K21*INDEX($F$7:$F$15,MATCH(J21,$B$7:$B$15,0)),0) -> 0
B22: 1 | C22: 1 Bed Apt Type.1 | D22: 50 | E22: =_xlfn.IFNA(D22*INDEX($C$7:$C$15,MATCH(C22,$B$7:$B$15,0)),0) -> 30000 | F22: =_xlfn.IFNA(D22*INDEX($D$7:$D$15,MATCH(C22,$B$7:$B$15,0)),0) -> 75000 | I22: 2 | J22: 1 Bed Apt Type 2 | K22: 10 | L22: =_xlfn.IFNA(K22*INDEX($C$7:$C$15,MATCH(J22,$B$7:$B$15,0)),0) -> 6500 | M22: =($B$74="Rent to Council")*_xlfn.IFNA(K22*INDEX($E$7:$E$15,MATCH(J22,$B$7:$B$15,0)),0) -> 12750 | N22: =($B$74="Sale to Council")*_xlfn.IFNA(K22*INDEX($F$7:$F$15,MATCH(J22,$B$7:$B$15,0)),0) -> 0
B23: 2 | C23: 1 Bed Apt Type 2 | D23: 40 | E23: =_xlfn.IFNA(D23*INDEX($C$7:$C$15,MATCH(C23,$B$7:$B$15,0)),0) -> 26000 | F23: =_xlfn.IFNA(D23*INDEX($D$7:$D$15,MATCH(C23,$B$7:$B$15,0)),0) -> 64000 | I23: 3 | J23: 3 Bed Apt Type 1 | K23: 10 | L23: =_xlfn.IFNA(K23*INDEX($C$7:$C$15,MATCH(J23,$B$7:$B$15,0)),0) -> 10000 | M23: =($B$74="Rent to Council")*_xlfn.IFNA(K23*INDEX($E$7:$E$15,MATCH(J23,$B$7:$B$15,0)),0) -> 24000 | N23: =($B$74="Sale to Council")*_xlfn.IFNA(K23*INDEX($F$7:$F$15,MATCH(J23,$B$7:$B$15,0)),0) -> 0
B24: 2 | C24: 2 Bed Apt Type 1 | D24: 50 | E24: =_xlfn.IFNA(D24*INDEX($C$7:$C$15,MATCH(C24,$B$7:$B$15,0)),0) -> 37500 | F24: =_xlfn.IFNA(D24*INDEX($D$7:$D$15,MATCH(C24,$B$7:$B$15,0)),0) -> 110000 | I24: 4 | J24: Studio | K24: 10 | L24: =_xlfn.IFNA(K24*INDEX($C$7:$C$15,MATCH(J24,$B$7:$B$15,0)),0) -> 5000 | M24: =($B$74="Rent to Council")*_xlfn.IFNA(K24*INDEX($E$7:$E$15,MATCH(J24,$B$7:$B$15,0)),0) -> 8750 | N24: =($B$74="Sale to Council")*_xlfn.IFNA(K24*INDEX($F$7:$F$15,MATCH(J24,$B$7:$B$15,0)),0) -> 0
B25: 3 | C25: 3 Bed Apt Type 1 | D25: 40 | E25: =_xlfn.IFNA(D25*INDEX($C$7:$C$15,MATCH(C25,$B$7:$B$15,0)),0) -> 40000 | F25: =_xlfn.IFNA(D25*INDEX($D$7:$D$15,MATCH(C25,$B$7:$B$15,0)),0) -> 120000 | I25: 5 | J25: 1 Bed Apt Type.1 | K25: 10 | L25: =_xlfn.IFNA(K25*INDEX($C$7:$C$15,MATCH(J25,$B$7:$B$15,0)),0) -> 6000 | M25: =($B$74="Rent to Council")*_xlfn.IFNA(K25*INDEX($E$7:$E$15,MATCH(J25,$B$7:$B$15,0)),0) -> 12000 | N25: =($B$74="Sale to Council")*_xlfn.IFNA(K25*INDEX($F$7:$F$15,MATCH(J25,$B$7:$B$15,0)),0) -> 0
B26: 3 | C26: 2 Bed Apt Type 2 | D26: 50 | E26: =_xlfn.IFNA(D26*INDEX($C$7:$C$15,MATCH(C26,$B$7:$B$15,0)),0) -> 40000 | F26: =_xlfn.IFNA(D26*INDEX($D$7:$D$15,MATCH(C26,$B$7:$B$15,0)),0) -> 120000 | L26: =_xlfn.IFNA(K26*INDEX($C$7:$C$15,MATCH(J26,$B$7:$B$15,0)),0) -> 0 | M26: =($B$74="Rent to Council")*_xlfn.IFNA(K26*INDEX($E$7:$E$15,MATCH(J26,$B$7:$B$15,0)),0) -> 0 | N26: =($B$74="Sale to Council")*_xlfn.IFNA(K26*INDEX($F$7:$F$15,MATCH(J26,$B$7:$B$15,0)),0) -> 0
B27: 4 | C27: 3 Bed Apt Type 2 | D27: 50 | E27: =_xlfn.IFNA(D27*INDEX($C$7:$C$15,MATCH(C27,$B$7:$B$15,0)),0) -> 55000 | F27: =_xlfn.IFNA(D27*INDEX($D$7:$D$15,MATCH(C27,$B$7:$B$15,0)),0) -> 155000 | L27: =_xlfn.IFNA(K27*INDEX($C$7:$C$15,MATCH(J27,$B$7:$B$15,0)),0) -> 0 | M27: =($B$74="Rent to Council")*_xlfn.IFNA(K27*INDEX($E$7:$E$15,MATCH(J27,$B$7:$B$15,0)),0) -> 0 | N27: =($B$74="Sale to Council")*_xlfn.IFNA(K27*INDEX($F$7:$F$15,MATCH(J27,$B$7:$B$15,0)),0) -> 0
B28: 4 | C28: Studio | D28: 40 | E28: =_xlfn.IFNA(D28*INDEX($C$7:$C$15,MATCH(C28,$B$7:$B$15,0)),0) -> 20000 | F28: =_xlfn.IFNA(D28*INDEX($D$7:$D$15,MATCH(C28,$B$7:$B$15,0)),0) -> 44000 | L28: =_xlfn.IFNA(K28*INDEX($C$7:$C$15,MATCH(J28,$B$7:$B$15,0)),0) -> 0 | M28: =($B$74="Rent to Council")*_xlfn.IFNA(K28*INDEX($E$7:$E$15,MATCH(J28,$B$7:$B$15,0)),0) -> 0 | N28: =($B$74="Sale to Council")*_xlfn.IFNA(K28*INDEX($F$7:$F$15,MATCH(J28,$B$7:$B$15,0)),0) -> 0
B29: 5 | C29: 1 Bed Apt Type.1 | D29: 40 | E29: =_xlfn.IFNA(D29*INDEX($C$7:$C$15,MATCH(C29,$B$7:$B$15,0)),0) -> 24000 | F29: =_xlfn.IFNA(D29*INDEX($D$7:$D$15,MATCH(C29,$B$7:$B$15,0)),0) -> 60000 | L29: =_xlfn.IFNA(K29*INDEX($C$7:$C$15,MATCH(J29,$B$7:$B$15,0)),0) -> 0 | M29: =($B$74="Rent to Council")*_xlfn.IFNA(K29*INDEX($E$7:$E$15,MATCH(J29,$B$7:$B$15,0)),0) -> 0 | N29: =($B$74="Sale to Council")*_xlfn.IFNA(K29*INDEX($F$7:$F$15,MATCH(J29,$B$7:$B$15,0)),0) -> 0
B30: 5 | C30: 2 Bed Apt Type 2 | D30: 50 | E30: =_xlfn.IFNA(D30*INDEX($C$7:$C$15,MATCH(C30,$B$7:$B$15,0)),0) -> 40000 | F30: =_xlfn.IFNA(D30*INDEX($D$7:$D$15,MATCH(C30,$B$7:$B$15,0)),0) -> 120000 | L30: =_xlfn.IFNA(K30*INDEX($C$7:$C$15,MATCH(J30,$B$7:$B$15,0)),0) -> 0 | M30: =($B$74="Rent to Council")*_xlfn.IFNA(K30*INDEX($E$7:$E$15,MATCH(J30,$B$7:$B$15,0)),0) -> 0 | N30: =($B$74="Sale to Council")*_xlfn.IFNA(K30*INDEX($F$7:$F$15,MATCH(J30,$B$7:$B$15,0)),0) -> 0
E31: =_xlfn.IFNA(D31*INDEX($C$7:$C$15,MATCH(C31,$B$7:$B$15,0)),0) -> 0 | F31: =_xlfn.IFNA(D31*INDEX($D$7:$D$15,MATCH(C31,$B$7:$B$15,0)),0) -> 0 | L31: =_xlfn.IFNA(K31*INDEX($C$7:$C$15,MATCH(J31,$B$7:$B$15,0)),0) -> 0 | M31: =($B$74="Rent to Council")*_xlfn.IFNA(K31*INDEX($E$7:$E$15,MATCH(J31,$B$7:$B$15,0)),0) -> 0 | N31: =($B$74="Sale to Council")*_xlfn.IFNA(K31*INDEX($F$7:$F$15,MATCH(J31,$B$7:$B$15,0)),0) -> 0
E32: =_xlfn.IFNA(D32*INDEX($C$7:$C$15,MATCH(C32,$B$7:$B$15,0)),0) -> 0 | F32: =_xlfn.IFNA(D32*INDEX($D$7:$D$15,MATCH(C32,$B$7:$B$15,0)),0) -> 0 | L32: =_xlfn.IFNA(K32*INDEX($C$7:$C$15,MATCH(J32,$B$7:$B$15,0)),0) -> 0 | M32: =($B$74="Rent to Council")*_xlfn.IFNA(K32*INDEX($E$7:$E$15,MATCH(J32,$B$7:$B$15,0)),0) -> 0 | N32: =($B$74="Sale to Council")*_xlfn.IFNA(K32*INDEX($F$7:$F$15,MATCH(J32,$B$7:$B$15,0)),0) -> 0
E33: =_xlfn.IFNA(D33*INDEX($C$7:$C$15,MATCH(C33,$B$7:$B$15,0)),0) -> 0 | F33: =_xlfn.IFNA(D33*INDEX($D$7:$D$15,MATCH(C33,$B$7:$B$15,0)),0) -> 0 | L33: =_xlfn.IFNA(K33*INDEX($C$7:$C$15,MATCH(J33,$B$7:$B$15,0)),0) -> 0 | M33: =($B$74="Rent to Council")*_xlfn.IFNA(K33*INDEX($E$7:$E$15,MATCH(J33,$B$7:$B$15,0)),0) -> 0 | N33: =($B$74="Sale to Council")*_xlfn.IFNA(K33*INDEX($F$7:$F$15,MATCH(J33,$B$7:$B$15,0)),0) -> 0
E34: =_xlfn.IFNA(D34*INDEX($C$7:$C$15,MATCH(C34,$B$7:$B$15,0)),0) -> 0 | F34: =_xlfn.IFNA(D34*INDEX($D$7:$D$15,MATCH(C34,$B$7:$B$15,0)),0) -> 0 | L34: =_xlfn.IFNA(K34*INDEX($C$7:$C$15,MATCH(J34,$B$7:$B$15,0)),0) -> 0 | M34: =($B$74="Rent to Council")*_xlfn.IFNA(K34*INDEX($E$7:$E$15,MATCH(J34,$B$7:$B$15,0)),0) -> 0 | N34: =($B$74="Sale to Council")*_xlfn.IFNA(K34*INDEX($F$7:$F$15,MATCH(J34,$B$7:$B$15,0)),0) -> 0
B35: Total | D35: =SUM(D21:D34) -> 450 | E35: =SUM(E21:E34) -> 332500 | F35: =SUM(F21:F34) -> 912000 | I35: Total | K35: =SUM(K21:K34) -> 50 | L35: =SUM(L21:L34) -> 32500 | M35: =SUM(M21:M34) -> 66250 | N35: =SUM(N21:N34) -> 0
B37: Block Schedule
B39: Block | C39: # of units | D39: # of rented units | E39: NIA sqft | F39: GIA sqft | H39: Efficiency | I39: U/G PS | J39: Private Rented | K39: Rent Roll pm | L39: Part V Rented | M39: PV RR | N39: Construct Phase
B40: {=_xlfn.UNIQUE(_xlfn._xlws.FILTER(B21:B34,B21:B34<>""))} -> 1 | C40: =SUMIF($B$21:$B$34,B40,$D$21:$D$34)+SUMIF($I$21:$I$34,B40,$K$21:$K$34) -> 100 | D40: =SUMIF($B$21:$B$34,B40,$D$21:$D$34)+($B$74="Rent to Council")*SUMIF($I$21:$I$34,B40,$K$21:$K$34) -> 100 | E40: =SUMIF($B$21:$B$34,B40,$E$21:$E$34)+SUMIF($I$21:$I$34,B40,$L$21:$L$34) -> 55000 | F40: 72000 | H40: =IFERROR(E40/F40,0) -> 0.76388889 | I40: 100 | J40: =SUMIF($B$21:$B$34,B40,$D$21:$D$34) -> 90 | K40: =SUMIF($B$21:$B$34,B40,$F$21:$F$34) -> 119000 | L40: =($B$74="Rent to Council")*SUMIF($I$21:$I$34,B40,$K$21:$K$34) -> 10 | M40: =SUMIF($I$21:$I$34,B40,$M$21:$M$34) -> 8750 | N40: 1
B41: 2 | C41: =SUMIF($B$21:$B$34,B41,$D$21:$D$34)+SUMIF($I$21:$I$34,B41,$K$21:$K$34) -> 100 | D41: =SUMIF($B$21:$B$34,B41,$D$21:$D$34)+($B$74="Rent to Council")*SUMIF($I$21:$I$34,B41,$K$21:$K$34) -> 100 | E41: =SUMIF($B$21:$B$34,B41,$E$21:$E$34)+SUMIF($I$21:$I$34,B41,$L$21:$L$34) -> 70000 | F41: 80000 | H41: =IFERROR(E41/F41,0) -> 0.875 | I41: 100 | J41: =SUMIF($B$21:$B$34,B41,$D$21:$D$34) -> 90 | K41: =SUMIF($B$21:$B$34,B41,$F$21:$F$34) -> 174000 | L41: =($B$74="Rent to Council")*SUMIF($I$21:$I$34,B41,$K$21:$K$34) -> 10 | M41: =SUMIF($I$21:$I$34,B41,$M$21:$M$34) -> 12750 | N41: 2
B42: 3 | C42: =SUMIF($B$21:$B$34,B42,$D$21:$D$34)+SUMIF($I$21:$I$34,B42,$K$21:$K$34) -> 100 | D42: =SUMIF($B$21:$B$34,B42,$D$21:$D$34)+($B$74="Rent to Council")*SUMIF($I$21:$I$34,B42,$K$21:$K$34) -> 100 | E42: =SUMIF($B$21:$B$34,B42,$E$21:$E$34)+SUMIF($I$21:$I$34,B42,$L$21:$L$34) -> 90000 | F42: 105000 | H42: =IFERROR(E42/F42,0) -> 0.85714286 | I42: 100 | J42: =SUMIF($B$21:$B$34,B42,$D$21:$D$34) -> 90 | K42: =SUMIF($B$21:$B$34,B42,$F$21:$F$34) -> 240000 | L42: =($B$74="Rent to Council")*SUMIF($I$21:$I$34,B42,$K$21:$K$34) -> 10 | M42: =SUMIF($I$21:$I$34,B42,$M$21:$M$34) -> 24000 | N42: 3
B43: 4 | C43: =SUMIF($B$21:$B$34,B43,$D$21:$D$34)+SUMIF($I$21:$I$34,B43,$K$21:$K$34) -> 100 | D43: =SUMIF($B$21:$B$34,B43,$D$21:$D$34)+($B$74="Rent to Council")*SUMIF($I$21:$I$34,B43,$K$21:$K$34) -> 100 | E43: =SUMIF($B$21:$B$34,B43,$E$21:$E$34)+SUMIF($I$21:$I$34,B43,$L$21:$L$34) -> 80000 | F43: 93000 | H43: =IFERROR(E43/F43,0) -> 0.86021505 | I43: 100 | J43: =SUMIF($B$21:$B$34,B43,$D$21:$D$34) -> 90 | K43: =SUMIF($B$21:$B$34,B43,$F$21:$F$34) -> 199000 | L43: =($B$74="Rent to Council")*SUMIF($I$21:$I$34,B43,$K$21:$K$34) -> 10 | M43: =SUMIF($I$21:$I$34,B43,$M$21:$M$34) -> 8750 | N43: 4
B44: 5 | C44: =SUMIF($B$21:$B$34,B44,$D$21:$D$34)+SUMIF($I$21:$I$34,B44,$K$21:$K$34) -> 100 | D44: =SUMIF($B$21:$B$34,B44,$D$21:$D$34)+($B$74="Rent to Council")*SUMIF($I$21:$I$34,B44,$K$21:$K$34) -> 100 | E44: =SUMIF($B$21:$B$34,B44,$E$21:$E$34)+SUMIF($I$21:$I$34,B44,$L$21:$L$34) -> 70000 | F44: 80000 | H44: =IFERROR(E44/F44,0) -> 0.875 | I44: 100 | J44: =SUMIF($B$21:$B$34,B44,$D$21:$D$34) -> 90 | K44: =SUMIF($B$21:$B$34,B44,$F$21:$F$34) -> 180000 | L44: =($B$74="Rent to Council")*SUMIF($I$21:$I$34,B44,$K$21:$K$34) -> 10 | M44: =SUMIF($I$21:$I$34,B44,$M$21:$M$34) -> 12000 | N44: 5
B45: Total | C45: =SUM(C40:C44) -> 500 | D45: =SUM(D40:D44) -> 500 | E45: =SUM(E40:E44) -> 365000 | F45: =SUM(F40:F44) -> 430000 | H45: =IFERROR(E45/F45,0) -> 0.84883721 | I45: =SUM(I40:I44) -> 500 | J45: =SUM(J40:J44) -> 450 | K45: =SUM(K40:K44) -> 912000 | L45: =SUM(L40:L44) -> 50 | M45: =SUM(M40:M44) -> 66250 | N45: =MAX(N40:N44) -> 5
B48: Construction Phase Inputs / Outputs
...
