Workbook
Name POWER_USER_EXCEL_CHART_2BE11F07_D536_425E_973E_1E7130578BF4: #REF!
Name POWER_USER_EXCEL_CHART_5CB79512_1C5F_4AE3_879A_21B3693CBDBE: #REF!
Name POWER_USER_EXCEL_CHART_63D56864_BBA7_47C5_B2DC_E7EFE2E45C09: #REF!
Name POWER_USER_EXCEL_CHART_7EA2236E_C4CA_4461_9F60_62EF14C2E22E: #REF!,#REF!,#REF!,#REF!,#REF!,#REF!,#REF!
Name POWER_USER_EXCEL_CHART_8BB8FBD6_26C1_41AB_92FC_66F0F3099217: #REF!
Name POWER_USER_EXCEL_CHART_9FDC5456_C2FF_4E82_BE8E_C10351EDB04E: #REF!
Name POWER_USER_EXCEL_CHART_C4E6A1C0_967F_4598_A438_E30DF51B5EFD: #REF!
Name POWER_USER_EXCEL_CHART_E2BA8E31_B725_408D_9F6D_080BC53DAD1F: #REF!
Name POWER_USER_EXCEL_CHART_F97360F7_C7EA_40DB_AC91_EA152F07BC43: #REF!

Sheet Summary
F2: Legend
F3: Blue = Input
F4: Black = Output/Calculation
F6: Analysis Start Date | G6: 44197
B9: Development Costs | G9: Operational Income
B11: Purchase Price | D11: 25000000 | G11: Method of Part V Disposal | I11: Rent to Council
B12: Stamp Duty | C12: 0.05 | D12: =D11*C12 -> 1250000 | G12: Rental growth p/a | I12: 0.03
B13: Legal | D13: 50000 | G13: Sale Date | I13: 45839
B14: Due Diligence | D14: 50000 | G14: Net Cap Rate | I14: 0.045
B15: Total Purchase Cost | E15: =SUM(D11:D14) -> 26350000
G16: Investment Finance
B17: ='Dev Cost Schedule'!B5 -> Admin Costs | C17: =D17/$E$24 -> 0.00023437955 | D17: ='Dev Cost Schedule'!E13 -> 28300 | G17: Loan to Value | I17: 0.5
B18: ='Dev Cost Schedule'!B15 -> Property Costs | C18: =D18/$E$24 -> 0.00084061923 | D18: ='Dev Cost Schedule'!E23 -> 101500 | G18: Interest | I18: 0.025
B19: ='Dev Cost Schedule'!B25 -> Detailed Design Costs | C19: =D19/$E$24 -> 0.030148415 | D19: ='Dev Cost Schedule'!E41 -> 3640250 | G19: Amortisation | I19: 30
B20: ='Dev Cost Schedule'!B43 -> Statutory Payments | C20: =D20/$E$24 -> 0.077933271 | D20: ='Dev Cost Schedule'!E54 -> 9410000 | G20: DSCR | I20: =IFERROR('Income_Expenditure Schedule'!C87,0) -> 2.0528319
B21: ='Dev Cost Schedule'!B56 -> Construction and Infrastructure Costs | C21: =D21/$E$24 -> 0.79092746 | D21: ='Dev Cost Schedule'!E66 -> 95500000
B22: ='Dev Cost Schedule'!B68 -> Post Contract Fees | C22: =D22/$E$24 -> 0.030148415 | D22: ='Dev Cost Schedule'!E83 -> 3640250 | G22: Gross Rental Income | I22: ='Cash flow'!C7 -> 30294025
B23: ='Dev Cost Schedule'!B85 -> Contingency | C23: =D23/$E$24 -> 0.069767442 | D23: ='Dev Cost Schedule'!E89 -> 8424022.5 | G23: ="- Management Cost" -> - Management Cost | I23: =-'Cash flow'!C14 -> 6339614.9
B24: Total Construction Cost | E24: =SUM(D17:D23) -> 1.2074432e+08 | G24: ="- Debt Interest" -> - Debt Interest | I24: ='Cash flow'!C39 -> 6072585.7
G25: Total Income from Operations | J25: =I22-I23-I24 -> 17881824
B26: Senior Debt
B27: Loan to Cost | C27: 0.6724571
B28: Interest | C28: 0.055 | E28: ='Dev Cost Schedule'!E129 -> 3183556.8
B29: Loan Pre-Interest Reserve | C29: =C27*E24 -> 81195378 | G29: Net Income on Disposal | I29: =('Cash flow'!C30-Summary!I31)*Summary!I14 -> 9961681.2
B30: Loan Post-Interest Reserve | C30: ='Dev Cost Schedule'!C123 -> 84003297 | G30: Reversionary Value | I30: =I29/I14 -> 2.2137069e+08
B31: Other finance fees | E31: =SUM('Dev Cost Schedule'!E130:E136) -> 1266470.3 | G31: ="+ Part V" -> + Part V | I31: ='Accom_Phase Schedule'!G82 -> 0
G32: ="- costs" -> - costs | H32: 0.02 | I32: =SUM(I30:I31)*H32 -> 4427413.9
G33: Net Sale | J33: =I30+I31-I32 -> 2.1694328e+08
B34: Gross Development Cost | E34: =E15+E24+E28+E31 -> 1.5154435e+08
B36: Total Project Cost | E36: =E34 -> 1.5154435e+08 | G36: Total Project Income | J36: =J25+J33 -> 2.348251e+08
E39: Results
E40: Profit | G40: =J36-E36 -> 83280754
E41: IRR | G41: =XIRR('Cash flow'!E76:CS76,'Cash flow'!E2:CS2,0.1) -> 0.24308642
E42: Unlevered IRR | G42: =XIRR('Cash flow'!E79:CS79,'Cash flow'!E2:CS2,0.1) -> 0.15137748
E43: Required Equity | G43: =-MIN('Cash flow'!E77:CS77) -> 67165415
E44: Equity Multiple | G44: =1+(G40/G43) -> 2.2399351

Sheet Accom_Phase Schedule
B2: Accomodation Schedule
B4: Unit Schedule
B5: Private | E5: Part V
B6: Apt / Type | C6: NIA Sqft | D6: Rent pm | E6: Council Rent | F6: Council Price | I6: Apt / Type | J6: # of units | K6: % of units | L6: Rent Roll | M6: % rent roll | N6: Rent psf NIA
B7: Studio | C7: 500 | D7: 1100 | E7: =MROUND(D7*0.8,25) -> 875 | F7: =MROUND(C7*400,5000) -> 200000 | I7: =B7 -> Studio | J7: =SUMIF($C$21:$C$34,I7,$D$21:$D$34)+SUMIF($J$21:$J$34,I7,$K$21:$K$34) -> 100 | K7: =J7/SUM($J$7:$J$15) -> 0.2 | L7: =SUMIF($C$21:$C$34,I7,$F$21:$F$34)+SUMIF($J$21:$J$34,I7,$M$21:$M$34) -> 105500 | M7: =L7/SUM($L$7:$L$15) -> 0.10784564 | N7: =IFERROR(D7*12/C7,0) -> 26.4
B8: 1 Bed Apt Type.1 | C8: 600 | D8: 1500 | E8: =MROUND(D8*0.8,25) -> 1200 | F8: =MROUND(C8*400,5000) -> 240000 | I8: =B8 -> 1 Bed Apt Type.1 | J8: =SUMIF($C$21:$C$34,I8,$D$21:$D$34)+SUMIF($J$21:$J$34,I8,$K$21:$K$34) -> 100 | K8: =J8/SUM($J$7:$J$15) -> 0.2 | L8: =SUMIF($C$21:$C$34,I8,$F$21:$F$34)+SUMIF($J$21:$J$34,I8,$M$21:$M$34) -> 147000 | M8: =L8/SUM($L$7:$L$15) -> 0.15026834 | N8: =IFERROR(D8*12/C8,0) -> 30
B9: 1 Bed Apt Type 2 | C9: 650 | D9: 1600 | E9: =MROUND(D9*0.8,25) -> 1275 | F9: =MROUND(C9*400,5000) -> 260000 | I9: =B9 -> 1 Bed Apt Type 2 | J9: =SUMIF($C$21:$C$34,I9,$D$21:$D$34)+SUMIF($J$21:$J$34,I9,$K$21:$K$34) -> 50 | K9: =J9/SUM($J$7:$J$15) -> 0.1 | L9: =SUMIF($C$21:$C$34,I9,$F$21:$F$34)+SUMIF($J$21:$J$34,I9,$M$21:$M$34) -> 76750 | M9: =L9/SUM($L$7:$L$15) -> 0.078456427 | N9: =IFERROR(D9*12/C9,0) -> 29.538462
B10: 2 Bed Apt Type 1 | C10: 750 | D10: 2200 | E10: =MROUND(D10*0.8,25) -> 1750 | F10: =MROUND(C10*400,5000) -> 300000 | I10: =B10 -> 2 Bed Apt Type 1 | J10: =SUMIF($C$21:$C$34,I10,$D$21:$D$34)+SUMIF($J$21:$J$34,I10,$K$21:$K$34) -> 50 | K10: =J10/SUM($J$7:$J$15) -> 0.1 | L10: =SUMIF($C$21:$C$34,I10,$F$21:$F$34)+SUMIF($J$21:$J$34,I10,$M$21:$M$34) -> 110000 | M10: =L10/SUM($L$7:$L$15) -> 0.11244569 | N10: =IFERROR(D10*12/C10,0) -> 35.2
B11: 2 Bed Apt Type 2 | C11: 800 | D11: 2400 | E11: =MROUND(D11*0.8,25) -> 1925 | F11: =MROUND(C11*400,5000) -> 320000 | I11: =B11 -> 2 Bed Apt Type 2 | J11: =SUMIF($C$21:$C$34,I11,$D$21:$D$34)+SUMIF($J$21:$J$34,I11,$K$21:$K$34) -> 100 | K11: =J11/SUM($J$7:$J$15) -> 0.2 | L11: =SUMIF($C$21:$C$34,I11,$F$21:$F$34)+SUMIF($J$21:$J$34,I11,$M$21:$M$34) -> 240000 | M11: =L11/SUM($L$7:$L$15) -> 0.24533606 | N11: =IFERROR(D11*12/C11,0) -> 36
B12: 3 Bed Apt Type 1 | C12: 1000 | D12: 3000 | E12: =MROUND(D12*0.8,25) -> 2400 | F12: =MROUND(C12*400,5000) -> 400000 | I12: =B12 -> 3 Bed Apt Type 1 | J12: =SUMIF($C$21:$C$34,I12,$D$21:$D$34)+SUMIF($J$21:$J$34,I12,$K$21:$K$34) -> 50 | K12: =J12/SUM($J$7:$J$15) -> 0.1 | L12: =SUMIF($C$21:$C$34,I12,$F$21:$F$34)+SUMIF($J$21:$J$34,I12,$M$21:$M$34) -> 144000 | M12: =L12/SUM($L$7:$L$15) -> 0.14720164 | N12: =IFERROR(D12*12/C12,0) -> 36
B13: 3 Bed Apt Type 2 | C13: 1100 | D13: 3100 | E13: =MROUND(D13*0.8,25) -> 2475 | F13: =MROUND(C13*400,5000) -> 440000 | I13: =B13 -> 3 Bed Apt Type 2 | J13: =SUMIF($C$21:$C$34,I13,$D$21:$D$34)+SUMIF($J$21:$J$34,I13,$K$21:$K$34) -> 50 | K13: =J13/SUM($J$7:$J$15) -> 0.1 | L13: =SUMIF($C$21:$C$34,I13,$F$21:$F$34)+SUMIF($J$21:$J$34,I13,$M$21:$M$34) -> 155000 | M13: =L13/SUM($L$7:$L$15) -> 0.1584462 | N13: =IFERROR(D13*12/C13,0) -> 33.818182
I14: =B14 -> 0 | J14: =SUMIF($C$21:$C$34,I14,$D$21:$D$34)+SUMIF($J$21:$J$34,I14,$K$21:$K$34) -> 0 | K14: =J14/SUM($J$7:$J$15) -> 0 | L14: =SUMIF($C$21:$C$34,I14,$F$21:$F$34)+SUMIF($J$21:$J$34,I14,$M$21:$M$34) -> 0 | M14: =L14/SUM($L$7:$L$15) -> 0 | N14: =IFERROR(D14*12/C14,0) -> 0
I15: =B15 -> 0 | J15: =SUMIF($C$21:$C$34,I15,$D$21:$D$34)+SUMIF($J$21:$J$34,I15,$K$21:$K$34) -> 0 | K15: =J15/SUM($J$7:$J$15) -> 0 | L15: =SUMIF($C$21:$C$34,I15,$F$21:$F$34)+SUMIF($J$21:$J$34,I15,$M$21:$M$34) -> 0 | M15: =L15/SUM($L$7:$L$15) -> 0 | N15: =IFERROR(D15*12/C15,0) -> 0
B17: Accomodation Schedule
B19: Private | I19: Part V
B20: Block | C20: Apt / Type | D20: # of units | E20: NIA sqft | F20: Rent Roll pm | I20: Block | J20: Apt / Type | K20: # of units | L20: NIA sqft | M20: Rent Roll pm | N20: Council GDV
B21: 1 | C21: Studio | D21: 40 | E21: =_xlfn.IFNA(D21*INDEX($C$7:$C$15,MATCH(C21,$B$7:$B$15,0)),0) -> 20000 | F21: =_xlfn.IFNA(D21*INDEX($D$7:$D$15,MATCH(C21,$B$7:$B$15,0)),0) -> 44000 | I21: 1 | J21: Studio | K21: 10 | L21: =_xlfn.IFNA(K21*INDEX($C$7:$C$15,MATCH(J21,$B$7:$B$15,0)),0) -> 5000 | M21: =(Summary!$I$11="Rent to Council")*_xlfn.IFNA(K21*INDEX($E$7:$E$15,MATCH(J21,$B$7:$B$15,0)),0) -> 8750 | N21: =(Summary!$I$11="Sale to Council")*_xlfn.IFNA(K21*INDEX($F$7:$F$15,MATCH(J21,$B$7:$B$15,0)),0) -> 0
B22: 1 | C22: 1 Bed Apt Type.1 | D22: 50 | E22: =_xlfn.IFNA(D22*INDEX($C$7:$C$15,MATCH(C22,$B$7:$B$15,0)),0) -> 30000 | F22: =_xlfn.IFNA(D22*INDEX($D$7:$D$15,MATCH(C22,$B$7:$B$15,0)),0) -> 75000 | I22: 2 | J22: 1 Bed Apt Type 2 | K22: 10 | L22: =_xlfn.IFNA(K22*INDEX($C$7:$C$15,MATCH(J22,$B$7:$B$15,0)),0) -> 6500 | M22: =(Summary!$I$11="Rent to Council")*_xlfn.IFNA(K22*INDEX($E$7:$E$15,MATCH(J22,$B$7:$B$15,0)),0) -> 12750 | N22: =(Summary!$I$11="Sale to Council")*_xlfn.IFNA(K22*INDEX($F$7:$F$15,MATCH(J22,$B$7:$B$15,0)),0) -> 0
B23: 2 | C23: 1 Bed Apt Type 2 | D23: 40 | E23: =_xlfn.IFNA(D23*INDEX($C$7:$C$15,MATCH(C23,$B$7:$B$15,0)),0) -> 26000 | F23: =_xlfn.IFNA(D23*INDEX($D$7:$D$15,MATCH(C23,$B$7:$B$15,0)),0) -> 64000 | I23: 3 | J23: 3 Bed Apt Type 1 | K23: 10 | L23: =_xlfn.IFNA(K23*INDEX($C$7:$C$15,MATCH(J23,$B$7:$B$15,0)),0) -> 10000 | M23: =(Summary!$I$11="Rent to Council")*_xlfn.IFNA(K23*INDEX($E$7:$E$15,MATCH(J23,$B$7:$B$15,0)),0) -> 24000 | N23: =(Summary!$I$11="Sale to Council")*_xlfn.IFNA(K23*INDEX($F$7:$F$15,MATCH(J23,$B$7:$B$15,0)),0) -> 0
B24: 2 | C24: 2 Bed Apt Type 1 | D24: 50 | E24: =_xlfn.IFNA(D24*INDEX($C$7:$C$15,MATCH(C24,$B$7:$B$15,0)),0) -> 37500 | F24: =_xlfn.IFNA(D24*INDEX($D$7:$D$15,MATCH(C24,$B$7:$B$15,0)),0) -> 110000 | I24: 4 | J24: Studio | K24: 10 | L24: =_xlfn.IFNA(K24*INDEX($C$7:$C$15,MATCH(J24,$B$7:$B$15,0)),0) -> 5000 | M24: =(Summary!$I$11="Rent to Council")*_xlfn.IFNA(K24*INDEX($E$7:$E$15,MATCH(J24,$B$7:$B$15,0)),0) -> 8750 | N24: =(Summary!$I$11="Sale to Council")*_xlfn.IFNA(K24*INDEX($F$7:$F$15,MATCH(J24,$B$7:$B$15,0)),0) -> 0
B25: 3 | C25: 3 Bed Apt Type 1 | D25: 40 | E25: =_xlfn.IFNA(D25*INDEX($C$7:$C$15,MATCH(C25,$B$7:$B$15,0)),0) -> 40000 | F25: =_xlfn.IFNA(D25*INDEX($D$7:$D$15,MATCH(C25,$B$7:$B$15,0)),0) -> 120000 | I25: 5 | J25: 1 Bed Apt Type.1 | K25: 10 | L25: =_xlfn.IFNA(K25*INDEX($C$7:$C$15,MATCH(J25,$B$7:$B$15,0)),0) -> 6000 | M25: =(Summary!$I$11="Rent to Council")*_xlfn.IFNA(K25*INDEX($E$7:$E$15,MATCH(J25,$B$7:$B$15,0)),0) -> 12000 | N25: =(Summary!$I$11="Sale to Council")*_xlfn.IFNA(K25*INDEX($F$7:$F$15,MATCH(J25,$B$7:$B$15,0)),0) -> 0
B26: 3 | C26: 2 Bed Apt Type 2 | D26: 50 | E26: =_xlfn.IFNA(D26*INDEX($C$7:$C$15,MATCH(C26,$B$7:$B$15,0)),0) -> 40000 | F26: =_xlfn.IFNA(D26*INDEX($D$7:$D$15,MATCH(C26,$B$7:$B$15,0)),0) -> 120000 | L26: =_xlfn.IFNA(K26*INDEX($C$7:$C$15,MATCH(J26,$B$7:$B$15,0)),0) -> 0 | M26: =(Summary!$I$11="Rent to Council")*_xlfn.IFNA(K26*INDEX($E$7:$E$15,MATCH(J26,$B$7:$B$15,0)),0) -> 0 | N26: =(Summary!$I$11="Sale to Council")*_xlfn.IFNA(K26*INDEX($F$7:$F$15,MATCH(J26,$B$7:$B$15,0)),0) -> 0
B27: 4 | C27: 3 Bed Apt Type 2 | D27: 50 | E27: =_xlfn.IFNA(D27*INDEX($C$7:$C$15,MATCH(C27,$B$7:$B$15,0)),0) -> 55000 | F27: =_xlfn.IFNA(D27*INDEX($D$7:$D$15,MATCH(C27,$B$7:$B$15,0)),0) -> 155000 | L27: =_xlfn.IFNA(K27*INDEX($C$7:$C$15,MATCH(J27,$B$7:$B$15,0)),0) -> 0 | M27: =(Summary!$I$11="Rent to Council")*_xlfn.IFNA(K27*INDEX($E$7:$E$15,MATCH(J27,$B$7:$B$15,0)),0) -> 0 | N27: =(Summary!$I$11="Sale to Council")*_xlfn.IFNA(K27*INDEX($F$7:$F$15,MATCH(J27,$B$7:$B$15,0)),0) -> 0
B28: 4 | C28: Studio | D28: 40 | E28: =_xlfn.IFNA(D28*INDEX($C$7:$C$15,MATCH(C28,$B$7:$B$15,0)),0) -> 20000 | F28: =_xlfn.IFNA(D28*INDEX($D$7:$D$15,MATCH(C28,$B$7:$B$15,0)),0) -> 44000 | L28: =_xlfn.IFNA(K28*INDEX($C$7:$C$15,MATCH(J28,$B$7:$B$15,0)),0) -> 0 | M28: =(Summary!$I$11="Rent to Council")*_xlfn.IFNA(K28*INDEX($E$7:$E$15,MATCH(J28,$B$7:$B$15,0)),0) -> 0 | N28: =(Summary!$I$11="Sale to Council")*_xlfn.IFNA(K28*INDEX($F$7:$F$15,MATCH(J28,$B$7:$B$15,0)),0) -> 0
B29: 5 | C29: 1 Bed Apt Type.1 | D29: 40 | E29: =_xlfn.IFNA(D29*INDEX($C$7:$C$15,MATCH(C29,$B$7:$B$15,0)),0) -> 24000 | F29: =_xlfn.IFNA(D29*INDEX($D$7:$D$15,MATCH(C29,$B$7:$B$15,0)),0) -> 60000 | L29: =_xlfn.IFNA(K29*INDEX($C$7:$C$15,MATCH(J29,$B$7:$B$15,0)),0) -> 0 | M29: =(Summary!$I$11="Rent to Council")*_xlfn.IFNA(K29*INDEX($E$7:$E$15,MATCH(J29,$B$7:$B$15,0)),0) -> 0 | N29: =(Summary!$I$11="Sale to Council")*_xlfn.IFNA(K29*INDEX($F$7:$F$15,MATCH(J29,$B$7:$B$15,0)),0) -> 0
B30: 5 | C30: 2 Bed Apt Type 2 | D30: 50 | E30: =_xlfn.IFNA(D30*INDEX($C$7:$C$15,MATCH(C30,$B$7:$B$15,0)),0) -> 40000 | F30: =_xlfn.IFNA(D30*INDEX($D$7:$D$15,MATCH(C30,$B$7:$B$15,0)),0) -> 120000 | L30: =_xlfn.IFNA(K30*INDEX($C$7:$C$15,MATCH(J30,$B$7:$B$15,0)),0) -> 0 | M30: =(Summary!$I$11="Rent to Council")*_xlfn.IFNA(K30*INDEX($E$7:$E$15,MATCH(J30,$B$7:$B$15,0)),0) -> 0 | N30: =(Summary!$I$11="Sale to Council")*_xlfn.IFNA(K30*INDEX($F$7:$F$15,MATCH(J30,$B$7:$B$15,0)),0) -> 0
E31: =_xlfn.IFNA(D31*INDEX($C$7:$C$15,MATCH(C31,$B$7:$B$15,0)),0) -> 0 | F31: =_xlfn.IFNA(D31*INDEX($D$7:$D$15,MATCH(C31,$B$7:$B$15,0)),0) -> 0 | L31: =_xlfn.IFNA(K31*INDEX($C$7:$C$15,MATCH(J31,$B$7:$B$15,0)),0) -> 0 | M31: =(Summary!$I$11="Rent to Council")*_xlfn.IFNA(K31*INDEX($E$7:$E$15,MATCH(J31,$B$7:$B$15,0)),0) -> 0 | N31: =(Summary!$I$11="Sale to Council")*_xlfn.IFNA(K31*INDEX($F$7:$F$15,MATCH(J31,$B$7:$B$15,0)),0) -> 0
E32: =_xlfn.IFNA(D32*INDEX($C$7:$C$15,MATCH(C32,$B$7:$B$15,0)),0) -> 0 | F32: =_xlfn.IFNA(D32*INDEX($D$7:$D$15,MATCH(C32,$B$7:$B$15,0)),0) -> 0 | L32: =_xlfn.IFNA(K32*INDEX($C$7:$C$15,MATCH(J32,$B$7:$B$15,0)),0) -> 0 | M32: =(Summary!$I$11="Rent to Council")*_xlfn.IFNA(K32*INDEX($E$7:$E$15,MATCH(J32,$B$7:$B$15,0)),0) -> 0 | N32: =(Summary!$I$11="Sale to Council")*_xlfn.IFNA(K32*INDEX($F$7:$F$15,MATCH(J32,$B$7:$B$15,0)),0) -> 0
E33: =_xlfn.IFNA(D33*INDEX($C$7:$C$15,MATCH(C33,$B$7:$B$15,0)),0) -> 0 | F33: =_xlfn.IFNA(D33*INDEX($D$7:$D$15,MATCH(C33,$B$7:$B$15,0)),0) -> 0 | L33: =_xlfn.IFNA(K33*INDEX($C$7:$C$15,MATCH(J33,$B$7:$B$15,0)),0) -> 0 | M33: =(Summary!$I$11="Rent to Council")*_xlfn.IFNA(K33*INDEX($E$7:$E$15,MATCH(J33,$B$7:$B$15,0)),0) -> 0 | N33: =(Summary!$I$11="Sale to Council")*_xlfn.IFNA(K33*INDEX($F$7:$F$15,MATCH(J33,$B$7:$B$15,0)),0) -> 0
E34: =_xlfn.IFNA(D34*INDEX($C$7:$C$15,MATCH(C34,$B$7:$B$15,0)),0) -> 0 | F34: =_xlfn.IFNA(D34*INDEX($D$7:$D$15,MATCH(C34,$B$7:$B$15,0)),0) -> 0 | L34: =_xlfn.IFNA(K34*INDEX($C$7:$C$15,MATCH(J34,$B$7:$B$15,0)),0) -> 0 | M34: =(Summary!$I$11="Rent to Council")*_xlfn.IFNA(K34*INDEX($E$7:$E$15,MATCH(J34,$B$7:$B$15,0)),0) -> 0 | N34: =(Summary!$I$11="Sale to Council")*_xlfn.IFNA(K34*INDEX($F$7:$F$15,MATCH(J34,$B$7:$B$15,0)),0) -> 0
B35: Total | D35: =SUM(D21:D34) -> 450 | E35: =SUM(E21:E34) -> 332500 | F35: =SUM(F21:F34) -> 912000 | I35: Total | K35: =SUM(K21:K34) -> 50 | L35: =SUM(L21:L34) -> 32500 | M35: =SUM(M21:M34) -> 66250 | N35: =SUM(N21:N34) -> 0
B37: Block Schedule
B39: Block | C39: # of units | D39: # of rented units | E39: NIA sqft | F39: GIA sqft | H39: Efficiency | I39: U/G PS | J39: Private Rented | K39: Rent Roll pm | L39: Part V Rented | M39: PV RR | N39: Construct Phase
B40: 1 | C40: =SUMIF($B$21:$B$34,B40,$D$21:$D$34)+SUMIF($I$21:$I$34,B40,$K$21:$K$34) -> 100 | D40: =SUMIF($B$21:$B$34,B40,$D$21:$D$34)+(Summary!$I$11="Rent to Council")*SUMIF($I$21:$I$34,B40,$K$21:$K$34) -> 100 | E40: =SUMIF($B$21:$B$34,B40,$E$21:$E$34)+SUMIF($I$21:$I$34,B40,$L$21:$L$34) -> 55000 | F40: 72000 | H40: =IFERROR(E40/F40,0) -> 0.76388889 | I40: 100 | J40: =SUMIF($B$21:$B$34,B40,$D$21:$D$34) -> 90 | K40: =SUMIF($B$21:$B$34,B40,$F$21:$F$34) -> 119000 | L40: =(Summary!$I$11="Rent to Council")*SUMIF($I$21:$I$34,B40,$K$21:$K$34) -> 10 | M40: =SUMIF($I$21:$I$34,B40,$M$21:$M$34) -> 8750 | N40: 1
B41: 2 | C41: =SUMIF($B$21:$B$34,B41,$D$21:$D$34)+SUMIF($I$21:$I$34,B41,$K$21:$K$34) -> 100 | D41: =SUMIF($B$21:$B$34,B41,$D$21:$D$34)+(Summary!$I$11="Rent to Council")*SUMIF($I$21:$I$34,B41,$K$21:$K$34) -> 100 | E41: =SUMIF($B$21:$B$34,B41,$E$21:$E$34)+SUMIF($I$21:$I$34,B41,$L$21:$L$34) -> 70000 | F41: 80000 | H41: =IFERROR(E41/F41,0) -> 0.875 | I41: 100 | J41: =SUMIF($B$21:$B$34,B41,$D$21:$D$34) -> 90 | K41: =SUMIF($B$21:$B$34,B41,$F$21:$F$34) -> 174000 | L41: =(Summary!$I$11="Rent to Council")*SUMIF($I$21:$I$34,B41,$K$21:$K$34) -> 10 | M41: =SUMIF($I$21:$I$34,B41,$M$21:$M$34) -> 12750 | N41: 1
B42: 3 | C42: =SUMIF($B$21:$B$34,B42,$D$21:$D$34)+SUMIF($I$21:$I$34,B42,$K$21:$K$34) -> 100 | D42: =SUMIF($B$21:$B$34,B42,$D$21:$D$34)+(Summary!$I$11="Rent to Council")*SUMIF($I$21:$I$34,B42,$K$21:$K$34) -> 100 | E42: =SUMIF($B$21:$B$34,B42,$E$21:$E$34)+SUMIF($I$21:$I$34,B42,$L$21:$L$34) -> 90000 | F42: 105000 | H42: =IFERROR(E42/F42,0) -> 0.85714286 | I42: 100 | J42: =SUMIF($B$21:$B$34,B42,$D$21:$D$34) -> 90 | K42: =SUMIF($B$21:$B$34,B42,$F$21:$F$34) -> 240000 | L42: =(Summary!$I$11="Rent to Council")*SUMIF($I$21:$I$34,B42,$K$21:$K$34) -> 10 | M42: =SUMIF($I$21:$I$34,B42,$M$21:$M$34) -> 24000 | N42: 1
B43: 4 | C43: =SUMIF($B$21:$B$34,B43,$D$21:$D$34)+SUMIF($I$21:$I$34,B43,$K$21:$K$34) -> 100 | D43: =SUMIF($B$21:$B$34,B43,$D$21:$D$34)+(Summary!$I$11="Rent to Council")*SUMIF($I$21:$I$34,B43,$K$21:$K$34) -> 100 | E43: =SUMIF($B$21:$B$34,B43,$E$21:$E$34)+SUMIF($I$21:$I$34,B43,$L$21:$L$34) -> 80000 | F43: 93000 | H43: =IFERROR(E43/F43,0) -> 0.86021505 | I43: 100 | J43: =SUMIF($B$21:$B$34,B43,$D$21:$D$34) -> 90 | K43: =SUMIF($B$21:$B$34,B43,$F$21:$F$34) -> 199000 | L43: =(Summary!$I$11="Rent to Council")*SUMIF($I$21:$I$34,B43,$K$21:$K$34) -> 10 | M43: =SUMIF($I$21:$I$34,B43,$M$21:$M$34) -> 8750 | N43: 1
B44: 5 | C44: =SUMIF($B$21:$B$34,B44,$D$21:$D$34)+SUMIF($I$21:$I$34,B44,$K$21:$K$34) -> 100 | D44: =SUMIF($B$21:$B$34,B44,$D$21:$D$34)+(Summary!$I$11="Rent to Council")*SUMIF($I$21:$I$34,B44,$K$21:$K$34) -> 100 | E44: =SUMIF($B$21:$B$34,B44,$E$21:$E$34)+SUMIF($I$21:$I$34,B44,$L$21:$L$34) -> 70000 | F44: 80000 | H44: =IFERROR(E44/F44,0) -> 0.875 | I44: 100 | J44: =SUMIF($B$21:$B$34,B44,$D$21:$D$34) -> 90 | K44: =SUMIF($B$21:$B$34,B44,$F$21:$F$34) -> 180000 | L44: =(Summary!$I$11="Rent to Council")*SUMIF($I$21:$I$34,B44,$K$21:$K$34) -> 10 | M44: =SUMIF($I$21:$I$34,B44,$M$21:$M$34) -> 12000 | N44: 1
B45: Total | C45: =SUM(C40:C44) -> 500 | D45: =SUM(D40:D44) -> 500 | E45: =SUM(E40:E44) -> 365000 | F45: =SUM(F40:F44) -> 430000 | H45: =IFERROR(E45/F45,0) -> 0.84883721 | I45: =SUM(I40:I44) -> 500 | J45: =SUM(J40:J44) -> 450 | K45: =SUM(K40:K44) -> 912000 | L45: =SUM(L40:L44) -> 50 | M45: =SUM(M40:M44) -> 66250 | N45: =MAX(N40:N44) -> 1
B48: Construction Phase Inputs / Outputs
...

Sheet Income_Expenditure Schedule
I2: Total | K2: ='Dev Cost Schedule'!K2 -> 44197 | L2: =EDATE(K2,1) -> 44228 | M2: =EDATE(L2,1) -> 44256 | N2: =EDATE(M2,1) -> 44287 | O2: =EDATE(N2,1) -> 44317 | P2: =EDATE(O2,1) -> 44348 | Q2: =EDATE(P2,1) -> 44378 | R2: =EDATE(Q2,1) -> 44409 | S2: =EDATE(R2,1) -> 44440 | ... CY2: =EDATE(CX2,1) -> 46997
B3: Residential Income | H3: Income Flow
B5: Residential Income
B7: Phase | E7: Rent Roll p/a
B8: Phase 1 | E8: ='Accom_Phase Schedule'!M53*12 -> 10944000 | H8: =B8 -> Phase 1 | I8: =SUM(K8:CY8) -> 28103137 | K8: =($E8/12)*K105*K117 -> 0 | L8: =($E8/12)*L105*L117 -> 0 | M8: =($E8/12)*M105*M117 -> 0 | N8: =($E8/12)*N105*N117 -> 0 | O8: =($E8/12)*O105*O117 -> 0 | P8: =($E8/12)*P105*P117 -> 0 | Q8: =($E8/12)*Q105*Q117 -> 0 | R8: =($E8/12)*R105*R117 -> 0 | ... CY8: =($E8/12)*CY105*CY117 -> 0
B9: Phase 2 | E9: ='Accom_Phase Schedule'!M54*12 -> 0 | H9: =B9 -> Phase 2 | I9: =SUM(K9:CY9) -> 0 | K9: =($E9/12)*K106*K118 -> 0 | L9: =($E9/12)*L106*L118 -> 0 | M9: =($E9/12)*M106*M118 -> 0 | N9: =($E9/12)*N106*N118 -> 0 | O9: =($E9/12)*O106*O118 -> 0 | P9: =($E9/12)*P106*P118 -> 0 | Q9: =($E9/12)*Q106*Q118 -> 0 | R9: =($E9/12)*R106*R118 -> 0 | ... CY9: =($E9/12)*CY106*CY118 -> 0
B10: Phase 3 | E10: ='Accom_Phase Schedule'!M55*12 -> 0 | H10: =B10 -> Phase 3 | I10: =SUM(K10:CY10) -> 0 | K10: =($E10/12)*K107*K119 -> 0 | L10: =($E10/12)*L107*L119 -> 0 | M10: =($E10/12)*M107*M119 -> 0 | N10: =($E10/12)*N107*N119 -> 0 | O10: =($E10/12)*O107*O119 -> 0 | P10: =($E10/12)*P107*P119 -> 0 | Q10: =($E10/12)*Q107*Q119 -> 0 | R10: =($E10/12)*R107*R119 -> 0 | ... CY10: =($E10/12)*CY107*CY119 -> 0
B11: Phase 4 | E11: ='Accom_Phase Schedule'!M56*12 -> 0 | H11: =B11 -> Phase 4 | I11: =SUM(K11:CY11) -> 0 | K11: =($E11/12)*K108*K120 -> 0 | L11: =($E11/12)*L108*L120 -> 0 | M11: =($E11/12)*M108*M120 -> 0 | N11: =($E11/12)*N108*N120 -> 0 | O11: =($E11/12)*O108*O120 -> 0 | P11: =($E11/12)*P108*P120 -> 0 | Q11: =($E11/12)*Q108*Q120 -> 0 | R11: =($E11/12)*R108*R120 -> 0 | ... CY11: =($E11/12)*CY108*CY120 -> 0
B12: Phase 5 | E12: ='Accom_Phase Schedule'!M57*12 -> 0 | H12: =B12 -> Phase 5 | I12: =SUM(K12:CY12) -> 0 | K12: =($E12/12)*K109*K121 -> 0 | L12: =($E12/12)*L109*L121 -> 0 | M12: =($E12/12)*M109*M121 -> 0 | N12: =($E12/12)*N109*N121 -> 0 | O12: =($E12/12)*O109*O121 -> 0 | P12: =($E12/12)*P109*P121 -> 0 | Q12: =($E12/12)*Q109*Q121 -> 0 | R12: =($E12/12)*R109*R121 -> 0 | ... CY12: =($E12/12)*CY109*CY121 -> 0
B14: Total Private | E14: =SUM(E8:E13) -> 10944000 | H14: =B14 -> Total Private | I14: =SUM(K14:CY14) -> 28103137 | K14: =SUM(K8:K12) -> 0 | L14: =SUM(L8:L12) -> 0 | M14: =SUM(M8:M12) -> 0 | N14: =SUM(N8:N12) -> 0 | O14: =SUM(O8:O12) -> 0 | P14: =SUM(P8:P12) -> 0 | Q14: =SUM(Q8:Q12) -> 0 | R14: =SUM(R8:R12) -> 0 | ... CY14: =SUM(CY8:CY12) -> 0
B16: Part V
B18: Phase | E18: Rent Roll p/a
B19: =B8 -> Phase 1 | E19: ='Accom_Phase Schedule'!N53*12 -> 795000 | H19: =B19 -> Phase 1 | I19: =SUM(K19:CY19) -> 2190887.5 | K19: =($E19/12)*K105 -> 0 | L19: =($E19/12)*L105 -> 0 | M19: =($E19/12)*M105 -> 0 | N19: =($E19/12)*N105 -> 0 | O19: =($E19/12)*O105 -> 0 | P19: =($E19/12)*P105 -> 0 | Q19: =($E19/12)*Q105 -> 0 | R19: =($E19/12)*R105 -> 0 | ... CY19: =($E19/12)*CY105 -> 0
B20: =B9 -> Phase 2 | E20: ='Accom_Phase Schedule'!N54*12 -> 0 | H20: =B20 -> Phase 2 | I20: =SUM(K20:CY20) -> 0 | K20: =($E20/12)*K106 -> 0 | L20: =($E20/12)*L106 -> 0 | M20: =($E20/12)*M106 -> 0 | N20: =($E20/12)*N106 -> 0 | O20: =($E20/12)*O106 -> 0 | P20: =($E20/12)*P106 -> 0 | Q20: =($E20/12)*Q106 -> 0 | R20: =($E20/12)*R106 -> 0 | ... CY20: =($E20/12)*CY106 -> 0
B21: =B10 -> Phase 3 | E21: ='Accom_Phase Schedule'!N55*12 -> 0 | H21: =B21 -> Phase 3 | I21: =SUM(K21:CY21) -> 0 | K21: =($E21/12)*K107 -> 0 | L21: =($E21/12)*L107 -> 0 | M21: =($E21/12)*M107 -> 0 | N21: =($E21/12)*N107 -> 0 | O21: =($E21/12)*O107 -> 0 | P21: =($E21/12)*P107 -> 0 | Q21: =($E21/12)*Q107 -> 0 | R21: =($E21/12)*R107 -> 0 | ... CY21: =($E21/12)*CY107 -> 0
B22: =B11 -> Phase 4 | E22: ='Accom_Phase Schedule'!N56*12 -> 0 | H22: =B22 -> Phase 4 | I22: =SUM(K22:CY22) -> 0 | K22: =($E22/12)*K108 -> 0 | L22: =($E22/12)*L108 -> 0 | M22: =($E22/12)*M108 -> 0 | N22: =($E22/12)*N108 -> 0 | O22: =($E22/12)*O108 -> 0 | P22: =($E22/12)*P108 -> 0 | Q22: =($E22/12)*Q108 -> 0 | R22: =($E22/12)*R108 -> 0 | ... CY22: =($E22/12)*CY108 -> 0
B23: =B12 -> Phase 5 | E23: ='Accom_Phase Schedule'!N57*12 -> 0 | H23: =B23 -> Phase 5 | I23: =SUM(K23:CY23) -> 0 | K23: =($E23/12)*K109 -> 0 | L23: =($E23/12)*L109 -> 0 | M23: =($E23/12)*M109 -> 0 | N23: =($E23/12)*N109 -> 0 | O23: =($E23/12)*O109 -> 0 | P23: =($E23/12)*P109 -> 0 | Q23: =($E23/12)*Q109 -> 0 | R23: =($E23/12)*R109 -> 0 | ... CY23: =($E23/12)*CY109 -> 0
B25: Total Part V | E25: =SUM(E19:E24) -> 795000 | H25: =B25 -> Total Part V | I25: =SUM(K25:CY25) -> 2190887.5 | K25: =SUM(K19:K23) -> 0 | L25: =SUM(L19:L23) -> 0 | M25: =SUM(M19:M23) -> 0 | N25: =SUM(N19:N23) -> 0 | O25: =SUM(O19:O23) -> 0 | P25: =SUM(P19:P23) -> 0 | Q25: =SUM(Q19:Q23) -> 0 | R25: =SUM(R19:R23) -> 0 | ... CY25: =SUM(CY19:CY23) -> 0
B27: Gross Rent
B29: Total Gross Rent | E29: =E14+E25 -> 11739000 | H29: =B29 -> Total Gross Rent | I29: =SUM(K29:CY29) -> 30294025 | K29: =K14+K25 -> 0 | L29: =L14+L25 -> 0 | M29: =M14+M25 -> 0 | N29: =N14+N25 -> 0 | O29: =O14+O25 -> 0 | P29: =P14+P25 -> 0 | Q29: =Q14+Q25 -> 0 | R29: =R14+R25 -> 0 | ... CY29: =CY14+CY25 -> 0
B31: Residential Management
B33: Admin Costs
B35: Cost | C35: Assumption | D35: Frequency | E35: Per annum
B36: Accountancy | C36: 2500 | D36: Quarterly | E36: =C36*(IF(D36="monthly",12,IF(D36="Quarterly",4,2))) -> 10000 | H36: =B36 -> Accountancy | I36: =SUM(K36:CY36) -> -30125 | K36: =(K$14>0)*(IF(MOD(DATEDIF($K$2,K$2,"m"),IF($D36="monthly",1,IF($D36="Quarterly",3,6)))=0,-$C36,0))*K$97 -> 0 | L36: =(L$14>0)*(IF(MOD(DATEDIF($K$2,L$2,"m"),IF($D36="monthly",1,IF($D36="Quarterly",3,6)))=0,-$C36,0))*L$97 -> 0 | M36: =(M$14>0)*(IF(MOD(DATEDIF($K$2,M$2,"m"),IF($D36="monthly",1,IF($D36="Quarterly",3,6)))=0,-$C36,0))*M$97 -> 0 | N36: =(N$14>0)*(IF(MOD(DATEDIF($K$2,N$2,"m"),IF($D36="monthly",1,IF($D36="Quarterly",3,6)))=0,-$C36,0))*N$97 -> 0 | O36: =(O$14>0)*(IF(MOD(DATEDIF($K$2,O$2,"m"),IF($D36="monthly",1,IF($D36="Quarterly",3,6)))=0,-$C36,0))*O$97 -> 0 | P36: =(P$14>0)*(IF(MOD(DATEDIF($K$2,P$2,"m"),IF($D36="monthly",1,IF($D36="Quarterly",3,6)))=0,-$C36,0))*P$97 -> 0 | Q36: =(Q$14>0)*(IF(MOD(DATEDIF($K$2,Q$2,"m"),IF($D36="monthly",1,IF($D36="Quarterly",3,6)))=0,-$C36,0))*Q$97 -> 0 | R36: =(R$14>0)*(IF(MOD(DATEDIF($K$2,R$2,"m"),IF($D36="monthly",1,IF($D36="Quarterly",3,6)))=0,-$C36,0))*R$97 -> 0 | ... CY36: =(CY$14>0)*(IF(MOD(DATEDIF($K$2,CY$2,"m"),IF($D36="monthly",1,IF($D36="Quarterly",3,6)))=0,-$C36,0))*CY$97 -> 0
B37: Insurance | C37: 15000 | D37: Bi-annual | E37: =C37*(IF(D37="monthly",12,IF(D37="Quarterly",4,2))) -> 30000 | H37: =B37 -> Insurance | I37: =SUM(K37:CY37) -> -98400 | K37: =(K$14>0)*(IF(MOD(DATEDIF($K$2,K$2,"m"),IF($D37="monthly",1,IF($D37="Quarterly",3,6)))=0,-$C37,0))*K$97 -> 0 | L37: =(L$14>0)*(IF(MOD(DATEDIF($K$2,L$2,"m"),IF($D37="monthly",1,IF($D37="Quarterly",3,6)))=0,-$C37,0))*L$97 -> 0 | M37: =(M$14>0)*(IF(MOD(DATEDIF($K$2,M$2,"m"),IF($D37="monthly",1,IF($D37="Quarterly",3,6)))=0,-$C37,0))*M$97 -> 0 | N37: =(N$14>0)*(IF(MOD(DATEDIF($K$2,N$2,"m"),IF($D37="monthly",1,IF($D37="Quarterly",3,6)))=0,-$C37,0))*N$97 -> 0 | O37: =(O$14>0)*(IF(MOD(DATEDIF($K$2,O$2,"m"),IF($D37="monthly",1,IF($D37="Quarterly",3,6)))=0,-$C37,0))*O$97 -> 0 | P37: =(P$14>0)*(IF(MOD(DATEDIF($K$2,P$2,"m"),IF($D37="monthly",1,IF($D37="Quarterly",3,6)))=0,-$C37,0))*P$97 -> 0 | Q37: =(Q$14>0)*(IF(MOD(DATEDIF($K$2,Q$2,"m"),IF($D37="monthly",1,IF($D37="Quarterly",3,6)))=0,-$C37,0))*Q$97 -> 0 | R37: =(R$14>0)*(IF(MOD(DATEDIF($K$2,R$2,"m"),IF($D37="monthly",1,IF($D37="Quarterly",3,6)))=0,-$C37,0))*R$97 -> 0 | ... CY37: =(CY$14>0)*(IF(MOD(DATEDIF($K$2,CY$2,"m"),IF($D37="monthly",1,IF($D37="Quarterly",3,6)))=0,-$C37,0))*CY$97 -> 0
B38: Bank Charges | C38: 150 | D38: Monthly | E38: =C38*(IF(D38="monthly",12,IF(D38="Quarterly",4,2))) -> 1800 | H38: =B38 -> Bank Charges | I38: =SUM(K38:CY38) -> -5101.5 | K38: =(K$14>0)*(IF(MOD(DATEDIF($K$2,K$2,"m"),IF($D38="monthly",1,IF($D38="Quarterly",3,6)))=0,-$C38,0))*K$97 -> 0 | L38: =(L$14>0)*(IF(MOD(DATEDIF($K$2,L$2,"m"),IF($D38="monthly",1,IF($D38="Quarterly",3,6)))=0,-$C38,0))*L$97 -> 0 | M38: =(M$14>0)*(IF(MOD(DATEDIF($K$2,M$2,"m"),IF($D38="monthly",1,IF($D38="Quarterly",3,6)))=0,-$C38,0))*M$97 -> 0 | N38: =(N$14>0)*(IF(MOD(DATEDIF($K$2,N$2,"m"),IF($D38="monthly",1,IF($D38="Quarterly",3,6)))=0,-$C38,0))*N$97 -> 0 | O38: =(O$14>0)*(IF(MOD(DATEDIF($K$2,O$2,"m"),IF($D38="monthly",1,IF($D38="Quarterly",3,6)))=0,-$C38,0))*O$97 -> 0 | P38: =(P$14>0)*(IF(MOD(DATEDIF($K$2,P$2,"m"),IF($D38="monthly",1,IF($D38="Quarterly",3,6)))=0,-$C38,0))*P$97 -> 0 | Q38: =(Q$14>0)*(IF(MOD(DATEDIF($K$2,Q$2,"m"),IF($D38="monthly",1,IF($D38="Quarterly",3,6)))=0,-$C38,0))*Q$97 -> 0 | R38: =(R$14>0)*(IF(MOD(DATEDIF($K$2,R$2,"m"),IF($D38="monthly",1,IF($D38="Quarterly",3,6)))=0,-$C38,0))*R$97 -> 0 | ... CY38: =(CY$14>0)*(IF(MOD(DATEDIF($K$2,CY$2,"m"),IF($D38="monthly",1,IF($D38="Quarterly",3,6)))=0,-$C38,0))*CY$97 -> 0
B39: Valuations | C39: 7500 | D39: Bi-annual | E39: =C39*(IF(D39="monthly",12,IF(D39="Quarterly",4,2))) -> 15000 | H39: =B39 -> Valuations | I39: =SUM(K39:CY39) -> -49200 | K39: =(K$14>0)*(IF(MOD(DATEDIF($K$2,K$2,"m"),IF($D39="monthly",1,IF($D39="Quarterly",3,6)))=0,-$C39,0))*K$97 -> 0 | L39: =(L$14>0)*(IF(MOD(DATEDIF($K$2,L$2,"m"),IF($D39="monthly",1,IF($D39="Quarterly",3,6)))=0,-$C39,0))*L$97 -> 0 | M39: =(M$14>0)*(IF(MOD(DATEDIF($K$2,M$2,"m"),IF($D39="monthly",1,IF($D39="Quarterly",3,6)))=0,-$C39,0))*M$97 -> 0 | N39: =(N$14>0)*(IF(MOD(DATEDIF($K$2,N$2,"m"),IF($D39="monthly",1,IF($D39="Quarterly",3,6)))=0,-$C39,0))*N$97 -> 0 | O39: =(O$14>0)*(IF(MOD(DATEDIF($K$2,O$2,"m"),IF($D39="monthly",1,IF($D39="Quarterly",3,6)))=0,-$C39,0))*O$97 -> 0 | P39: =(P$14>0)*(IF(MOD(DATEDIF($K$2,P$2,"m"),IF($D39="monthly",1,IF($D39="Quarterly",3,6)))=0,-$C39,0))*P$97 -> 0 | Q39: =(Q$14>0)*(IF(MOD(DATEDIF($K$2,Q$2,"m"),IF($D39="monthly",1,IF($D39="Quarterly",3,6)))=0,-$C39,0))*Q$97 -> 0 | R39: =(R$14>0)*(IF(MOD(DATEDIF($K$2,R$2,"m"),IF($D39="monthly",1,IF($D39="Quarterly",3,6)))=0,-$C39,0))*R$97 -> 0 | ... CY39: =(CY$14>0)*(IF(MOD(DATEDIF($K$2,CY$2,"m"),IF($D39="monthly",1,IF($D39="Quarterly",3,6)))=0,-$C39,0))*CY$97 -> 0
E40: =C40*(IF(D40="monthly",12,IF(D40="Quarterly",4,2))) -> 0 | I40: =SUM(K40:CY40) -> 0
B41: Total Admin Costs | E41: =SUM(E36:E40) -> 56800 | H41: =B41 -> Total Admin Costs | I41: =SUM(K41:CY41) -> -182826.5 | K41: =SUM(K36:K39) -> 0 | L41: =SUM(L36:L39) -> 0 | M41: =SUM(M36:M39) -> 0 | N41: =SUM(N36:N39) -> 0 | O41: =SUM(O36:O39) -> 0 | P41: =SUM(P36:P39) -> 0 | Q41: =SUM(Q36:Q39) -> 0 | R41: =SUM(R36:R39) -> 0 | ... CY41: =SUM(CY36:CY39) -> 0
B43: Property Costs
B45: Cost | C45: Assumption | D45: Measurement | E45: Per annum
B46: Local Property Tax p/a | C46: 600 | D46: per unit | E46: =C46*'Accom_Phase Schedule'!$D$45 -> 300000 | H46: =B46 -> Local Property Tax p/a | I46: =SUM(K46:CY46) -> -973500 | K46: {=(K$2<$C$96)*(SUMPRODUCT(--(K$2>='Accom_Phase Schedule'!$E$65:$E$69),--(MOD(MONTH(K$2),12)=MOD(MONTH('Accom_Phase Schedule'!$E$65:$E$69),12)),'Accom_Phase Schedule'!$J$53:$J$57)*-$C46)*K$97} -> 0 | L46: {=(L$2<$C$96)*(SUMPRODUCT(--(L$2>='Accom_Phase Schedule'!$E$65:$E$69),--(MOD(MONTH(L$2),12)=MOD(MONTH('Accom_Phase Schedule'!$E$65:$E$69),12)),'Accom_Phase Schedule'!$J$53:$J$57)*-$C46)*L$97} -> 0 | M46: {=(M$2<$C$96)*(SUMPRODUCT(--(M$2>='Accom_Phase Schedule'!$E$65:$E$69),--(MOD(MONTH(M$2),12)=MOD(MONTH('Accom_Phase Schedule'!$E$65:$E$69),12)),'Accom_Phase Schedule'!$J$53:$J$57)*-$C46)*M$97} -> 0 | N46: {=(N$2<$C$96)*(SUMPRODUCT(--(N$2>='Accom_Phase Schedule'!$E$65:$E$69),--(MOD(MONTH(N$2),12)=MOD(MONTH('Accom_Phase Schedule'!$E$65:$E$69),12)),'Accom_Phase Schedule'!$J$53:$J$57)*-$C46)*N$97} -> 0 | O46: {=(O$2<$C$96)*(SUMPRODUCT(--(O$2>='Accom_Phase Schedule'!$E$65:$E$69),--(MOD(MONTH(O$2),12)=MOD(MONTH('Accom_Phase Schedule'!$E$65:$E$69),12)),'Accom_Phase Schedule'!$J$53:$J$57)*-$C46)*O$97} -> 0 | P46: {=(P$2<$C$96)*(SUMPRODUCT(--(P$2>='Accom_Phase Schedule'!$E$65:$E$69),--(MOD(MONTH(P$2),12)=MOD(MONTH('Accom_Phase Schedule'!$E$65:$E$69),12)),'Accom_Phase Schedule'!$J$53:$J$57)*-$C46)*P$97} -> 0 | Q46: {=(Q$2<$C$96)*(SUMPRODUCT(--(Q$2>='Accom_Phase Schedule'!$E$65:$E$69),--(MOD(MONTH(Q$2),12)=MOD(MONTH('Accom_Phase Schedule'!$E$65:$E$69),12)),'Accom_Phase Schedule'!$J$53:$J$57)*-$C46)*Q$97} -> 0 | R46: {=(R$2<$C$96)*(SUMPRODUCT(--(R$2>='Accom_Phase Schedule'!$E$65:$E$69),--(MOD(MONTH(R$2),12)=MOD(MONTH('Accom_Phase Schedule'!$E$65:$E$69),12)),'Accom_Phase Schedule'!$J$53:$J$57)*-$C46)*R$97} -> 0 | ... CY46: {=(CY$2<$C$96)*(SUMPRODUCT(--(CY$2>='Accom_Phase Schedule'!$E$65:$E$69),--(MOD(MONTH(CY$2),12)=MOD(MONTH('Accom_Phase Schedule'!$E$65:$E$69),12)),'Accom_Phase Schedule'!$J$53:$J$57)*-$C46)*CY$97} -> 0
B47: RTB Registrations | C47: 120 | D47: per unit | E47: =C47*'Accom_Phase Schedule'!$D$45 -> 60000 | H47: =B47 -> RTB Registrations | I47: =SUM(K47:CY47) -> -67405.2 | K47: =(K2<$C$96)*((K125-J125)*-$C$47+AND(K2>EDATE('Accom_Phase Schedule'!$E$65,12),K2<$C$96)*-$C$100*($C$47/12)*(K$125/MAX($K$125:$BC$125)))*K$97 -> 0 | L47: =(L2<$C$96)*((L125-K125)*-$C$47+AND(L2>EDATE('Accom_Phase Schedule'!$E$65,12),L2<$C$96)*-$C$100*($C$47/12)*(L$125/MAX($K$125:$BC$125)))*L$97 -> 0 | M47: =(M2<$C$96)*((M125-L125)*-$C$47+AND(M2>EDATE('Accom_Phase Schedule'!$E$65,12),M2<$C$96)*-$C$100*($C$47/12)*(M$125/MAX($K$125:$BC$125)))*M$97 -> 0 | N47: =(N2<$C$96)*((N125-M125)*-$C$47+AND(N2>EDATE('Accom_Phase Schedule'!$E$65,12),N2<$C$96)*-$C$100*($C$47/12)*(N$125/MAX($K$125:$BC$125)))*N$97 -> 0 | O47: =(O2<$C$96)*((O125-N125)*-$C$47+AND(O2>EDATE('Accom_Phase Schedule'!$E$65,12),O2<$C$96)*-$C$100*($C$47/12)*(O$125/MAX($K$125:$BC$125)))*O$97 -> 0 | P47: =(P2<$C$96)*((P125-O125)*-$C$47+AND(P2>EDATE('Accom_Phase Schedule'!$E$65,12),P2<$C$96)*-$C$100*($C$47/12)*(P$125/MAX($K$125:$BC$125)))*P$97 -> 0 | Q47: =(Q2<$C$96)*((Q125-P125)*-$C$47+AND(Q2>EDATE('Accom_Phase Schedule'!$E$65,12),Q2<$C$96)*-$C$100*($C$47/12)*(Q$125/MAX($K$125:$BC$125)))*Q$97 -> 0 | R47: =(R2<$C$96)*((R125-Q125)*-$C$47+AND(R2>EDATE('Accom_Phase Schedule'!$E$65,12),R2<$C$96)*-$C$100*($C$47/12)*(R$125/MAX($K$125:$BC$125)))*R$97 -> 0 | ... CY47: =(CY2<$C$96)*((CY125-CX125)*-$C$47+AND(CY2>EDATE('Accom_Phase Schedule'!$E$65,12),CY2<$C$96)*-$C$100*($C$47/12)*(CY$125/MAX($K$125:$BC$125)))*CY$97 -> 0
B48: Block Management p/a | C48: 400 | D48: per unit | E48: =C48*'Accom_Phase Schedule'!$D$45 -> 200000 | H48: =B48 -> Block Management p/a | I48: =SUM(K48:CY48) -> -543406.65 | K48: =((K$125/MAX($K$125:$BC$125))*-($E48/12))*K$97 -> 0 | L48: =((L$125/MAX($K$125:$BC$125))*-($E48/12))*L$97 -> 0 | M48: =((M$125/MAX($K$125:$BC$125))*-($E48/12))*M$97 -> 0 | N48: =((N$125/MAX($K$125:$BC$125))*-($E48/12))*N$97 -> 0 | O48: =((O$125/MAX($K$125:$BC$125))*-($E48/12))*O$97 -> 0 | P48: =((P$125/MAX($K$125:$BC$125))*-($E48/12))*P$97 -> 0 | Q48: =((Q$125/MAX($K$125:$BC$125))*-($E48/12))*Q$97 -> 0 | R48: =((R$125/MAX($K$125:$BC$125))*-($E48/12))*R$97 -> 0 | ... CY48: =((CY$125/MAX($K$125:$BC$125))*-($E48/12))*CY$97 -> 0
B49: Estate Management p/a | C49: 350 | D49: per unit | E49: =C49*'Accom_Phase Schedule'!$D$45 -> 175000 | H49: =B49 -> Estate Management p/a | I49: =SUM(K49:CY49) -> -475480.82 | K49: =((K$125/MAX($K$125:$BC$125))*-($E49/12))*K$97 -> 0 | L49: =((L$125/MAX($K$125:$BC$125))*-($E49/12))*L$97 -> 0 | M49: =((M$125/MAX($K$125:$BC$125))*-($E49/12))*M$97 -> 0 | N49: =((N$125/MAX($K$125:$BC$125))*-($E49/12))*N$97 -> 0 | O49: =((O$125/MAX($K$125:$BC$125))*-($E49/12))*O$97 -> 0 | P49: =((P$125/MAX($K$125:$BC$125))*-($E49/12))*P$97 -> 0 | Q49: =((Q$125/MAX($K$125:$BC$125))*-($E49/12))*Q$97 -> 0 | R49: =((R$125/MAX($K$125:$BC$125))*-($E49/12))*R$97 -> 0 | ... CY49: =((CY$125/MAX($K$125:$BC$125))*-($E49/12))*CY$97 -> 0
B50: Maintenance Cost p/a | C50: 500 | D50: per unit | E50: =C50*'Accom_Phase Schedule'!$D$45 -> 250000 | H50: =B50 -> Maintenance Cost p/a | I50: =SUM(K50:CY50) -> -679258.32 | K50: =((K$125/MAX($K$125:$BC$125))*-($E50/12))*K$97 -> 0 | L50: =((L$125/MAX($K$125:$BC$125))*-($E50/12))*L$97 -> 0 | M50: =((M$125/MAX($K$125:$BC$125))*-($E50/12))*M$97 -> 0 | N50: =((N$125/MAX($K$125:$BC$125))*-($E50/12))*N$97 -> 0 | O50: =((O$125/MAX($K$125:$BC$125))*-($E50/12))*O$97 -> 0 | P50: =((P$125/MAX($K$125:$BC$125))*-($E50/12))*P$97 -> 0 | Q50: =((Q$125/MAX($K$125:$BC$125))*-($E50/12))*Q$97 -> 0 | R50: =((R$125/MAX($K$125:$BC$125))*-($E50/12))*R$97 -> 0 | ... CY50: =((CY$125/MAX($K$125:$BC$125))*-($E50/12))*CY$97 -> 0
B51: Furniture Expense p/a | C51: 500 | D51: per unit | E51: =C51*'Accom_Phase Schedule'!$D$45 -> 250000 | H51: =B51 -> Furniture Expense p/a | I51: =SUM(K51:CY51) -> -679258.32 | K51: =((K$125/MAX($K$125:$BC$125))*-($E51/12))*K$97 -> 0 | L51: =((L$125/MAX($K$125:$BC$125))*-($E51/12))*L$97 -> 0 | M51: =((M$125/MAX($K$125:$BC$125))*-($E51/12))*M$97 -> 0 | N51: =((N$125/MAX($K$125:$BC$125))*-($E51/12))*N$97 -> 0 | O51: =((O$125/MAX($K$125:$BC$125))*-($E51/12))*O$97 -> 0 | P51: =((P$125/MAX($K$125:$BC$125))*-($E51/12))*P$97 -> 0 | Q51: =((Q$125/MAX($K$125:$BC$125))*-($E51/12))*Q$97 -> 0 | R51: =((R$125/MAX($K$125:$BC$125))*-($E51/12))*R$97 -> 0 | ... CY51: =((CY$125/MAX($K$125:$BC$125))*-($E51/12))*CY$97 -> 0
I52: =SUM(K52:CY52) -> 0
B53: Total Property Costs | E53: =SUM(E46:E52) -> 1235000 | H53: =B53 -> Total Property Costs | I53: =SUM(K53:CY53) -> -3418309.3 | K53: =SUM(K46:K52) -> 0 | L53: =SUM(L46:L52) -> 0 | M53: =SUM(M46:M52) -> 0 | N53: =SUM(N46:N52) -> 0 | O53: =SUM(O46:O52) -> 0 | P53: =SUM(P46:P52) -> 0 | Q53: =SUM(Q46:Q52) -> 0 | R53: =SUM(R46:R52) -> 0 | ... CY53: =SUM(CY46:CY52) -> 0
B55: Self Management Costs
...

Sheet Dev Cost Schedule
I2: Total | K2: =Summary!G6 -> 44197 | L2: =EDATE(K2,1) -> 44228 | M2: =EDATE(L2,1) -> 44256 | N2: =EDATE(M2,1) -> 44287 | O2: =EDATE(N2,1) -> 44317 | P2: =EDATE(O2,1) -> 44348 | Q2: =EDATE(P2,1) -> 44378 | R2: =EDATE(Q2,1) -> 44409 | S2: =EDATE(R2,1) -> 44440 | ... CU2: =EDATE(CT2,1) -> 46874
B3: Development Costs | H3: Cost Flow
B5: Admin Costs
B7: Cost | C7: Assumption | D7: Frequency | E7: Estimate
B8: Accountancy | C8: 1000 | D8: Quarterly | E8: =-I8 -> 8000 | H8: =B8 -> Accountancy | I8: =SUM(K8:CU8) -> -8000 | K8: =(K$2<'Accom_Phase Schedule'!$E$58)*IF(MOD(DATEDIF($K$2,K$2,"m"),IF($D8="monthly",1,IF($D8="Quarterly",3,6)))=0,-$C8,0) -> -1000 | L8: =(L$2<'Accom_Phase Schedule'!$E$58)*IF(MOD(DATEDIF($K$2,L$2,"m"),IF($D8="monthly",1,IF($D8="Quarterly",3,6)))=0,-$C8,0) -> 0 | M8: =(M$2<'Accom_Phase Schedule'!$E$58)*IF(MOD(DATEDIF($K$2,M$2,"m"),IF($D8="monthly",1,IF($D8="Quarterly",3,6)))=0,-$C8,0) -> 0 | N8: =(N$2<'Accom_Phase Schedule'!$E$58)*IF(MOD(DATEDIF($K$2,N$2,"m"),IF($D8="monthly",1,IF($D8="Quarterly",3,6)))=0,-$C8,0) -> -1000 | O8: =(O$2<'Accom_Phase Schedule'!$E$58)*IF(MOD(DATEDIF($K$2,O$2,"m"),IF($D8="monthly",1,IF($D8="Quarterly",3,6)))=0,-$C8,0) -> 0 | P8: =(P$2<'Accom_Phase Schedule'!$E$58)*IF(MOD(DATEDIF($K$2,P$2,"m"),IF($D8="monthly",1,IF($D8="Quarterly",3,6)))=0,-$C8,0) -> 0 | Q8: =(Q$2<'Accom_Phase Schedule'!$E$58)*IF(MOD(DATEDIF($K$2,Q$2,"m"),IF($D8="monthly",1,IF($D8="Quarterly",3,6)))=0,-$C8,0) -> -1000 | R8: =(R$2<'Accom_Phase Schedule'!$E$58)*IF(MOD(DATEDIF($K$2,R$2,"m"),IF($D8="monthly",1,IF($D8="Quarterly",3,6)))=0,-$C8,0) -> 0 | ... CU8: =(CU$2<'Accom_Phase Schedule'!$E$58)*IF(MOD(DATEDIF($K$2,CU$2,"m"),IF($D8="monthly",1,IF($D8="Quarterly",3,6)))=0,-$C8,0) -> 0
B9: Insurance | C9: 1500 | D9: Bi-annual | E9: =-I9 -> 6000 | H9: =B9 -> Insurance | I9: =SUM(K9:CU9) -> -6000 | K9: =(K$2<'Accom_Phase Schedule'!$E$58)*IF(MOD(DATEDIF($K$2,K$2,"m"),IF($D9="monthly",1,IF($D9="Quarterly",3,6)))=0,-$C9,0) -> -1500 | L9: =(L$2<'Accom_Phase Schedule'!$E$58)*IF(MOD(DATEDIF($K$2,L$2,"m"),IF($D9="monthly",1,IF($D9="Quarterly",3,6)))=0,-$C9,0) -> 0 | M9: =(M$2<'Accom_Phase Schedule'!$E$58)*IF(MOD(DATEDIF($K$2,M$2,"m"),IF($D9="monthly",1,IF($D9="Quarterly",3,6)))=0,-$C9,0) -> 0 | N9: =(N$2<'Accom_Phase Schedule'!$E$58)*IF(MOD(DATEDIF($K$2,N$2,"m"),IF($D9="monthly",1,IF($D9="Quarterly",3,6)))=0,-$C9,0) -> 0 | O9: =(O$2<'Accom_Phase Schedule'!$E$58)*IF(MOD(DATEDIF($K$2,O$2,"m"),IF($D9="monthly",1,IF($D9="Quarterly",3,6)))=0,-$C9,0) -> 0 | P9: =(P$2<'Accom_Phase Schedule'!$E$58)*IF(MOD(DATEDIF($K$2,P$2,"m"),IF($D9="monthly",1,IF($D9="Quarterly",3,6)))=0,-$C9,0) -> 0 | Q9: =(Q$2<'Accom_Phase Schedule'!$E$58)*IF(MOD(DATEDIF($K$2,Q$2,"m"),IF($D9="monthly",1,IF($D9="Quarterly",3,6)))=0,-$C9,0) -> -1500 | R9: =(R$2<'Accom_Phase Schedule'!$E$58)*IF(MOD(DATEDIF($K$2,R$2,"m"),IF($D9="monthly",1,IF($D9="Quarterly",3,6)))=0,-$C9,0) -> 0 | ... CU9: =(CU$2<'Accom_Phase Schedule'!$E$58)*IF(MOD(DATEDIF($K$2,CU$2,"m"),IF($D9="monthly",1,IF($D9="Quarterly",3,6)))=0,-$C9,0) -> 0
B10: Bank Charges | C10: 100 | D10: Monthly | E10: =-I10 -> 2300 | H10: =B10 -> Bank Charges | I10: =SUM(K10:CU10) -> -2300 | K10: =(K$2<'Accom_Phase Schedule'!$E$58)*IF(MOD(DATEDIF($K$2,K$2,"m"),IF($D10="monthly",1,IF($D10="Quarterly",3,6)))=0,-$C10,0) -> -100 | L10: =(L$2<'Accom_Phase Schedule'!$E$58)*IF(MOD(DATEDIF($K$2,L$2,"m"),IF($D10="monthly",1,IF($D10="Quarterly",3,6)))=0,-$C10,0) -> -100 | M10: =(M$2<'Accom_Phase Schedule'!$E$58)*IF(MOD(DATEDIF($K$2,M$2,"m"),IF($D10="monthly",1,IF($D10="Quarterly",3,6)))=0,-$C10,0) -> -100 | N10: =(N$2<'Accom_Phase Schedule'!$E$58)*IF(MOD(DATEDIF($K$2,N$2,"m"),IF($D10="monthly",1,IF($D10="Quarterly",3,6)))=0,-$C10,0) -> -100 | O10: =(O$2<'Accom_Phase Schedule'!$E$58)*IF(MOD(DATEDIF($K$2,O$2,"m"),IF($D10="monthly",1,IF($D10="Quarterly",3,6)))=0,-$C10,0) -> -100 | P10: =(P$2<'Accom_Phase Schedule'!$E$58)*IF(MOD(DATEDIF($K$2,P$2,"m"),IF($D10="monthly",1,IF($D10="Quarterly",3,6)))=0,-$C10,0) -> -100 | Q10: =(Q$2<'Accom_Phase Schedule'!$E$58)*IF(MOD(DATEDIF($K$2,Q$2,"m"),IF($D10="monthly",1,IF($D10="Quarterly",3,6)))=0,-$C10,0) -> -100 | R10: =(R$2<'Accom_Phase Schedule'!$E$58)*IF(MOD(DATEDIF($K$2,R$2,"m"),IF($D10="monthly",1,IF($D10="Quarterly",3,6)))=0,-$C10,0) -> -100 | ... CU10: =(CU$2<'Accom_Phase Schedule'!$E$58)*IF(MOD(DATEDIF($K$2,CU$2,"m"),IF($D10="monthly",1,IF($D10="Quarterly",3,6)))=0,-$C10,0) -> 0
B11: Valuations | C11: 3000 | D11: Bi-annual | E11: =-I11 -> 12000 | H11: =B11 -> Valuations | I11: =SUM(K11:CU11) -> -12000 | K11: =(K$2<'Accom_Phase Schedule'!$E$58)*IF(MOD(DATEDIF($K$2,K$2,"m"),IF($D11="monthly",1,IF($D11="Quarterly",3,6)))=0,-$C11,0) -> -3000 | L11: =(L$2<'Accom_Phase Schedule'!$E$58)*IF(MOD(DATEDIF($K$2,L$2,"m"),IF($D11="monthly",1,IF($D11="Quarterly",3,6)))=0,-$C11,0) -> 0 | M11: =(M$2<'Accom_Phase Schedule'!$E$58)*IF(MOD(DATEDIF($K$2,M$2,"m"),IF($D11="monthly",1,IF($D11="Quarterly",3,6)))=0,-$C11,0) -> 0 | N11: =(N$2<'Accom_Phase Schedule'!$E$58)*IF(MOD(DATEDIF($K$2,N$2,"m"),IF($D11="monthly",1,IF($D11="Quarterly",3,6)))=0,-$C11,0) -> 0 | O11: =(O$2<'Accom_Phase Schedule'!$E$58)*IF(MOD(DATEDIF($K$2,O$2,"m"),IF($D11="monthly",1,IF($D11="Quarterly",3,6)))=0,-$C11,0) -> 0 | P11: =(P$2<'Accom_Phase Schedule'!$E$58)*IF(MOD(DATEDIF($K$2,P$2,"m"),IF($D11="monthly",1,IF($D11="Quarterly",3,6)))=0,-$C11,0) -> 0 | Q11: =(Q$2<'Accom_Phase Schedule'!$E$58)*IF(MOD(DATEDIF($K$2,Q$2,"m"),IF($D11="monthly",1,IF($D11="Quarterly",3,6)))=0,-$C11,0) -> -3000 | R11: =(R$2<'Accom_Phase Schedule'!$E$58)*IF(MOD(DATEDIF($K$2,R$2,"m"),IF($D11="monthly",1,IF($D11="Quarterly",3,6)))=0,-$C11,0) -> 0 | ... CU11: =(CU$2<'Accom_Phase Schedule'!$E$58)*IF(MOD(DATEDIF($K$2,CU$2,"m"),IF($D11="monthly",1,IF($D11="Quarterly",3,6)))=0,-$C11,0) -> 0
I12: =SUM(K12:CU12) -> 0
B13: Total Admin Costs | E13: =SUM(E8:E12) -> 28300 | H13: Total Admin Costs | I13: =SUM(I8:I12) -> -28300 | K13: =SUM(K8:K12) -> -5600 | L13: =SUM(L8:L12) -> -100 | M13: =SUM(M8:M12) -> -100 | N13: =SUM(N8:N12) -> -1100 | O13: =SUM(O8:O12) -> -100 | P13: =SUM(P8:P12) -> -100 | Q13: =SUM(Q8:Q12) -> -5600 | R13: =SUM(R8:R12) -> -100 | ... CU13: =SUM(CU8:CU12) -> 0
B15: Property Costs
B17: Cost | C17: Assumption | D17: Frequency | E17: Estimate
B18: Service Charge | C18: 5000 | D18: Quarterly | E18: =-I18 -> 40000 | H18: =B18 -> Service Charge | I18: =SUM(K18:CU18) -> -40000 | K18: =(K$2<'Accom_Phase Schedule'!$E$58)*IF(MOD(DATEDIF($K$2,K$2,"m"),IF($D18="monthly",1,IF($D18="Quarterly",3,6)))=0,-$C18,0) -> -5000 | L18: =(L$2<'Accom_Phase Schedule'!$E$58)*IF(MOD(DATEDIF($K$2,L$2,"m"),IF($D18="monthly",1,IF($D18="Quarterly",3,6)))=0,-$C18,0) -> 0 | M18: =(M$2<'Accom_Phase Schedule'!$E$58)*IF(MOD(DATEDIF($K$2,M$2,"m"),IF($D18="monthly",1,IF($D18="Quarterly",3,6)))=0,-$C18,0) -> 0 | N18: =(N$2<'Accom_Phase Schedule'!$E$58)*IF(MOD(DATEDIF($K$2,N$2,"m"),IF($D18="monthly",1,IF($D18="Quarterly",3,6)))=0,-$C18,0) -> -5000 | O18: =(O$2<'Accom_Phase Schedule'!$E$58)*IF(MOD(DATEDIF($K$2,O$2,"m"),IF($D18="monthly",1,IF($D18="Quarterly",3,6)))=0,-$C18,0) -> 0 | P18: =(P$2<'Accom_Phase Schedule'!$E$58)*IF(MOD(DATEDIF($K$2,P$2,"m"),IF($D18="monthly",1,IF($D18="Quarterly",3,6)))=0,-$C18,0) -> 0 | Q18: =(Q$2<'Accom_Phase Schedule'!$E$58)*IF(MOD(DATEDIF($K$2,Q$2,"m"),IF($D18="monthly",1,IF($D18="Quarterly",3,6)))=0,-$C18,0) -> -5000 | R18: =(R$2<'Accom_Phase Schedule'!$E$58)*IF(MOD(DATEDIF($K$2,R$2,"m"),IF($D18="monthly",1,IF($D18="Quarterly",3,6)))=0,-$C18,0) -> 0 | ... CU18: =(CU$2<'Accom_Phase Schedule'!$E$58)*IF(MOD(DATEDIF($K$2,CU$2,"m"),IF($D18="monthly",1,IF($D18="Quarterly",3,6)))=0,-$C18,0) -> 0
B19: Security | C19: 500 | D19: Monthly | E19: =-I19 -> 11500 | H19: =B19 -> Security | I19: =SUM(K19:CU19) -> -11500 | K19: =(K$2<'Accom_Phase Schedule'!$E$58)*IF(MOD(DATEDIF($K$2,K$2,"m"),IF($D19="monthly",1,IF($D19="Quarterly",3,6)))=0,-$C19,0) -> -500 | L19: =(L$2<'Accom_Phase Schedule'!$E$58)*IF(MOD(DATEDIF($K$2,L$2,"m"),IF($D19="monthly",1,IF($D19="Quarterly",3,6)))=0,-$C19,0) -> -500 | M19: =(M$2<'Accom_Phase Schedule'!$E$58)*IF(MOD(DATEDIF($K$2,M$2,"m"),IF($D19="monthly",1,IF($D19="Quarterly",3,6)))=0,-$C19,0) -> -500 | N19: =(N$2<'Accom_Phase Schedule'!$E$58)*IF(MOD(DATEDIF($K$2,N$2,"m"),IF($D19="monthly",1,IF($D19="Quarterly",3,6)))=0,-$C19,0) -> -500 | O19: =(O$2<'Accom_Phase Schedule'!$E$58)*IF(MOD(DATEDIF($K$2,O$2,"m"),IF($D19="monthly",1,IF($D19="Quarterly",3,6)))=0,-$C19,0) -> -500 | P19: =(P$2<'Accom_Phase Schedule'!$E$58)*IF(MOD(DATEDIF($K$2,P$2,"m"),IF($D19="monthly",1,IF($D19="Quarterly",3,6)))=0,-$C19,0) -> -500 | Q19: =(Q$2<'Accom_Phase Schedule'!$E$58)*IF(MOD(DATEDIF($K$2,Q$2,"m"),IF($D19="monthly",1,IF($D19="Quarterly",3,6)))=0,-$C19,0) -> -500 | R19: =(R$2<'Accom_Phase Schedule'!$E$58)*IF(MOD(DATEDIF($K$2,R$2,"m"),IF($D19="monthly",1,IF($D19="Quarterly",3,6)))=0,-$C19,0) -> -500 | ... CU19: =(CU$2<'Accom_Phase Schedule'!$E$58)*IF(MOD(DATEDIF($K$2,CU$2,"m"),IF($D19="monthly",1,IF($D19="Quarterly",3,6)))=0,-$C19,0) -> 0
B20: Rates | C20: 2500 | D20: Bi-annual | E20: =-I20 -> 10000 | H20: =B20 -> Rates | I20: =SUM(K20:CU20) -> -10000 | K20: =(K$2<'Accom_Phase Schedule'!$E$58)*IF(MOD(DATEDIF($K$2,K$2,"m"),IF($D20="monthly",1,IF($D20="Quarterly",3,6)))=0,-$C20,0) -> -2500 | L20: =(L$2<'Accom_Phase Schedule'!$E$58)*IF(MOD(DATEDIF($K$2,L$2,"m"),IF($D20="monthly",1,IF($D20="Quarterly",3,6)))=0,-$C20,0) -> 0 | M20: =(M$2<'Accom_Phase Schedule'!$E$58)*IF(MOD(DATEDIF($K$2,M$2,"m"),IF($D20="monthly",1,IF($D20="Quarterly",3,6)))=0,-$C20,0) -> 0 | N20: =(N$2<'Accom_Phase Schedule'!$E$58)*IF(MOD(DATEDIF($K$2,N$2,"m"),IF($D20="monthly",1,IF($D20="Quarterly",3,6)))=0,-$C20,0) -> 0 | O20: =(O$2<'Accom_Phase Schedule'!$E$58)*IF(MOD(DATEDIF($K$2,O$2,"m"),IF($D20="monthly",1,IF($D20="Quarterly",3,6)))=0,-$C20,0) -> 0 | P20: =(P$2<'Accom_Phase Schedule'!$E$58)*IF(MOD(DATEDIF($K$2,P$2,"m"),IF($D20="monthly",1,IF($D20="Quarterly",3,6)))=0,-$C20,0) -> 0 | Q20: =(Q$2<'Accom_Phase Schedule'!$E$58)*IF(MOD(DATEDIF($K$2,Q$2,"m"),IF($D20="monthly",1,IF($D20="Quarterly",3,6)))=0,-$C20,0) -> -2500 | R20: =(R$2<'Accom_Phase Schedule'!$E$58)*IF(MOD(DATEDIF($K$2,R$2,"m"),IF($D20="monthly",1,IF($D20="Quarterly",3,6)))=0,-$C20,0) -> 0 | ... CU20: =(CU$2<'Accom_Phase Schedule'!$E$58)*IF(MOD(DATEDIF($K$2,CU$2,"m"),IF($D20="monthly",1,IF($D20="Quarterly",3,6)))=0,-$C20,0) -> 0
B21: Other | C21: 5000 | D21: Quarterly | E21: =-I21 -> 40000 | H21: =B21 -> Other | I21: =SUM(K21:CU21) -> -40000 | K21: =(K$2<'Accom_Phase Schedule'!$E$58)*IF(MOD(DATEDIF($K$2,K$2,"m"),IF($D21="monthly",1,IF($D21="Quarterly",3,6)))=0,-$C21,0) -> -5000 | L21: =(L$2<'Accom_Phase Schedule'!$E$58)*IF(MOD(DATEDIF($K$2,L$2,"m"),IF($D21="monthly",1,IF($D21="Quarterly",3,6)))=0,-$C21,0) -> 0 | M21: =(M$2<'Accom_Phase Schedule'!$E$58)*IF(MOD(DATEDIF($K$2,M$2,"m"),IF($D21="monthly",1,IF($D21="Quarterly",3,6)))=0,-$C21,0) -> 0 | N21: =(N$2<'Accom_Phase Schedule'!$E$58)*IF(MOD(DATEDIF($K$2,N$2,"m"),IF($D21="monthly",1,IF($D21="Quarterly",3,6)))=0,-$C21,0) -> -5000 | O21: =(O$2<'Accom_Phase Schedule'!$E$58)*IF(MOD(DATEDIF($K$2,O$2,"m"),IF($D21="monthly",1,IF($D21="Quarterly",3,6)))=0,-$C21,0) -> 0 | P21: =(P$2<'Accom_Phase Schedule'!$E$58)*IF(MOD(DATEDIF($K$2,P$2,"m"),IF($D21="monthly",1,IF($D21="Quarterly",3,6)))=0,-$C21,0) -> 0 | Q21: =(Q$2<'Accom_Phase Schedule'!$E$58)*IF(MOD(DATEDIF($K$2,Q$2,"m"),IF($D21="monthly",1,IF($D21="Quarterly",3,6)))=0,-$C21,0) -> -5000 | R21: =(R$2<'Accom_Phase Schedule'!$E$58)*IF(MOD(DATEDIF($K$2,R$2,"m"),IF($D21="monthly",1,IF($D21="Quarterly",3,6)))=0,-$C21,0) -> 0 | ... CU21: =(CU$2<'Accom_Phase Schedule'!$E$58)*IF(MOD(DATEDIF($K$2,CU$2,"m"),IF($D21="monthly",1,IF($D21="Quarterly",3,6)))=0,-$C21,0) -> 0
H22: =B22 -> 0 | I22: =SUM(K22:CU22) -> 0 | K22: =(K$2<'Accom_Phase Schedule'!$E$58)*IF(MOD(DATEDIF($K$2,K$2,"m"),IF($D22="monthly",1,IF($D22="Quarterly",3,6)))=0,-$C22,0) -> 0 | L22: =(L$2<'Accom_Phase Schedule'!$E$58)*IF(MOD(DATEDIF($K$2,L$2,"m"),IF($D22="monthly",1,IF($D22="Quarterly",3,6)))=0,-$C22,0) -> 0 | M22: =(M$2<'Accom_Phase Schedule'!$E$58)*IF(MOD(DATEDIF($K$2,M$2,"m"),IF($D22="monthly",1,IF($D22="Quarterly",3,6)))=0,-$C22,0) -> 0 | N22: =(N$2<'Accom_Phase Schedule'!$E$58)*IF(MOD(DATEDIF($K$2,N$2,"m"),IF($D22="monthly",1,IF($D22="Quarterly",3,6)))=0,-$C22,0) -> 0 | O22: =(O$2<'Accom_Phase Schedule'!$E$58)*IF(MOD(DATEDIF($K$2,O$2,"m"),IF($D22="monthly",1,IF($D22="Quarterly",3,6)))=0,-$C22,0) -> 0 | P22: =(P$2<'Accom_Phase Schedule'!$E$58)*IF(MOD(DATEDIF($K$2,P$2,"m"),IF($D22="monthly",1,IF($D22="Quarterly",3,6)))=0,-$C22,0) -> 0 | Q22: =(Q$2<'Accom_Phase Schedule'!$E$58)*IF(MOD(DATEDIF($K$2,Q$2,"m"),IF($D22="monthly",1,IF($D22="Quarterly",3,6)))=0,-$C22,0) -> 0 | R22: =(R$2<'Accom_Phase Schedule'!$E$58)*IF(MOD(DATEDIF($K$2,R$2,"m"),IF($D22="monthly",1,IF($D22="Quarterly",3,6)))=0,-$C22,0) -> 0 | ... CU22: =(CU$2<'Accom_Phase Schedule'!$E$58)*IF(MOD(DATEDIF($K$2,CU$2,"m"),IF($D22="monthly",1,IF($D22="Quarterly",3,6)))=0,-$C22,0) -> 0
B23: Total Property Costs | E23: =SUM(E18:E22) -> 101500 | H23: Total Property Costs | I23: =SUM(I18:I22) -> -101500 | K23: =SUM(K18:K22) -> -13000 | L23: =SUM(L18:L22) -> -500 | M23: =SUM(M18:M22) -> -500 | N23: =SUM(N18:N22) -> -10500 | O23: =SUM(O18:O22) -> -500 | P23: =SUM(P18:P22) -> -500 | Q23: =SUM(Q18:Q22) -> -13000 | R23: =SUM(R18:R22) -> -500 | ... CU23: =SUM(CU18:CU22) -> 0
B25: Detailed Design Costs
B27: Cost | C27: Assumption | D27: Measurement | E27: Estimate
B28: Architecture | C28: 0.01 | D28: of construction | E28: =C28*$E$66 -> 955000 | H28: =B28 -> Architecture | I28: =SUM(K28:CU28) -> -955000 | L28: =(L$2<'Accom_Phase Schedule'!$C$58)*-$E28/DATEDIF($L$2,'Accom_Phase Schedule'!$C$58,"m") -> -238750 | M28: =(M$2<'Accom_Phase Schedule'!$C$58)*-$E28/DATEDIF($L$2,'Accom_Phase Schedule'!$C$58,"m") -> -238750 | N28: =(N$2<'Accom_Phase Schedule'!$C$58)*-$E28/DATEDIF($L$2,'Accom_Phase Schedule'!$C$58,"m") -> -238750 | O28: =(O$2<'Accom_Phase Schedule'!$C$58)*-$E28/DATEDIF($L$2,'Accom_Phase Schedule'!$C$58,"m") -> -238750 | P28: =(P$2<'Accom_Phase Schedule'!$C$58)*-$E28/DATEDIF($L$2,'Accom_Phase Schedule'!$C$58,"m") -> 0 | Q28: =(Q$2<'Accom_Phase Schedule'!$C$58)*-$E28/DATEDIF($L$2,'Accom_Phase Schedule'!$C$58,"m") -> 0 | R28: =(R$2<'Accom_Phase Schedule'!$C$58)*-$E28/DATEDIF($L$2,'Accom_Phase Schedule'!$C$58,"m") -> 0 | S28: =(S$2<'Accom_Phase Schedule'!$C$58)*-$E28/DATEDIF($L$2,'Accom_Phase Schedule'!$C$58,"m") -> 0 | ... CU28: =(CU$2<'Accom_Phase Schedule'!$C$58)*-$E28/DATEDIF($L$2,'Accom_Phase Schedule'!$C$58,"m") -> 0
B29: Façade Design | C29: 5000 | D29: flat fee | E29: =C29 -> 5000 | H29: =B29 -> Façade Design | I29: =SUM(K29:CU29) -> -5000 | L29: =(L$2<'Accom_Phase Schedule'!$C$58)*-$E29/DATEDIF($L$2,'Accom_Phase Schedule'!$C$58,"m") -> -1250 | M29: =(M$2<'Accom_Phase Schedule'!$C$58)*-$E29/DATEDIF($L$2,'Accom_Phase Schedule'!$C$58,"m") -> -1250 | N29: =(N$2<'Accom_Phase Schedule'!$C$58)*-$E29/DATEDIF($L$2,'Accom_Phase Schedule'!$C$58,"m") -> -1250 | O29: =(O$2<'Accom_Phase Schedule'!$C$58)*-$E29/DATEDIF($L$2,'Accom_Phase Schedule'!$C$58,"m") -> -1250 | P29: =(P$2<'Accom_Phase Schedule'!$C$58)*-$E29/DATEDIF($L$2,'Accom_Phase Schedule'!$C$58,"m") -> 0 | Q29: =(Q$2<'Accom_Phase Schedule'!$C$58)*-$E29/DATEDIF($L$2,'Accom_Phase Schedule'!$C$58,"m") -> 0 | R29: =(R$2<'Accom_Phase Schedule'!$C$58)*-$E29/DATEDIF($L$2,'Accom_Phase Schedule'!$C$58,"m") -> 0 | S29: =(S$2<'Accom_Phase Schedule'!$C$58)*-$E29/DATEDIF($L$2,'Accom_Phase Schedule'!$C$58,"m") -> 0 | ... CU29: =(CU$2<'Accom_Phase Schedule'!$C$58)*-$E29/DATEDIF($L$2,'Accom_Phase Schedule'!$C$58,"m") -> 0
B30: Lanscape Design | C30: 10000 | D30: flat fee | E30: =C30 -> 10000 | H30: =B30 -> Lanscape Design | I30: =SUM(K30:CU30) -> -10000 | L30: =(L$2<'Accom_Phase Schedule'!$C$58)*-$E30/DATEDIF($L$2,'Accom_Phase Schedule'!$C$58,"m") -> -2500 | M30: =(M$2<'Accom_Phase Schedule'!$C$58)*-$E30/DATEDIF($L$2,'Accom_Phase Schedule'!$C$58,"m") -> -2500 | N30: =(N$2<'Accom_Phase Schedule'!$C$58)*-$E30/DATEDIF($L$2,'Accom_Phase Schedule'!$C$58,"m") -> -2500 | O30: =(O$2<'Accom_Phase Schedule'!$C$58)*-$E30/DATEDIF($L$2,'Accom_Phase Schedule'!$C$58,"m") -> -2500 | P30: =(P$2<'Accom_Phase Schedule'!$C$58)*-$E30/DATEDIF($L$2,'Accom_Phase Schedule'!$C$58,"m") -> 0 | Q30: =(Q$2<'Accom_Phase Schedule'!$C$58)*-$E30/DATEDIF($L$2,'Accom_Phase Schedule'!$C$58,"m") -> 0 | R30: =(R$2<'Accom_Phase Schedule'!$C$58)*-$E30/DATEDIF($L$2,'Accom_Phase Schedule'!$C$58,"m") -> 0 | S30: =(S$2<'Accom_Phase Schedule'!$C$58)*-$E30/DATEDIF($L$2,'Accom_Phase Schedule'!$C$58,"m") -> 0 | ... CU30: =(CU$2<'Accom_Phase Schedule'!$C$58)*-$E30/DATEDIF($L$2,'Accom_Phase Schedule'!$C$58,"m") -> 0
B31: Structural Engineering | C31: 0.005 | D31: of construction | E31: =C31*$E$66 -> 477500 | H31: =B31 -> Structural Engineering | I31: =SUM(K31:CU31) -> -477500 | L31: =(L$2<'Accom_Phase Schedule'!$C$58)*-$E31/DATEDIF($L$2,'Accom_Phase Schedule'!$C$58,"m") -> -119375 | M31: =(M$2<'Accom_Phase Schedule'!$C$58)*-$E31/DATEDIF($L$2,'Accom_Phase Schedule'!$C$58,"m") -> -119375 | N31: =(N$2<'Accom_Phase Schedule'!$C$58)*-$E31/DATEDIF($L$2,'Accom_Phase Schedule'!$C$58,"m") -> -119375 | O31: =(O$2<'Accom_Phase Schedule'!$C$58)*-$E31/DATEDIF($L$2,'Accom_Phase Schedule'!$C$58,"m") -> -119375 | P31: =(P$2<'Accom_Phase Schedule'!$C$58)*-$E31/DATEDIF($L$2,'Accom_Phase Schedule'!$C$58,"m") -> 0 | Q31: =(Q$2<'Accom_Phase Schedule'!$C$58)*-$E31/DATEDIF($L$2,'Accom_Phase Schedule'!$C$58,"m") -> 0 | R31: =(R$2<'Accom_Phase Schedule'!$C$58)*-$E31/DATEDIF($L$2,'Accom_Phase Schedule'!$C$58,"m") -> 0 | S31: =(S$2<'Accom_Phase Schedule'!$C$58)*-$E31/DATEDIF($L$2,'Accom_Phase Schedule'!$C$58,"m") -> 0 | ... CU31: =(CU$2<'Accom_Phase Schedule'!$C$58)*-$E31/DATEDIF($L$2,'Accom_Phase Schedule'!$C$58,"m") -> 0
B32: M&E Engineering | C32: 0.004 | D32: of construction | E32: =C32*$E$66 -> 382000 | H32: =B32 -> M&E Engineering | I32: =SUM(K32:CU32) -> -382000 | L32: =(L$2<'Accom_Phase Schedule'!$C$58)*-$E32/DATEDIF($L$2,'Accom_Phase Schedule'!$C$58,"m") -> -95500 | M32: =(M$2<'Accom_Phase Schedule'!$C$58)*-$E32/DATEDIF($L$2,'Accom_Phase Schedule'!$C$58,"m") -> -95500 | N32: =(N$2<'Accom_Phase Schedule'!$C$58)*-$E32/DATEDIF($L$2,'Accom_Phase Schedule'!$C$58,"m") -> -95500 | O32: =(O$2<'Accom_Phase Schedule'!$C$58)*-$E32/DATEDIF($L$2,'Accom_Phase Schedule'!$C$58,"m") -> -95500 | P32: =(P$2<'Accom_Phase Schedule'!$C$58)*-$E32/DATEDIF($L$2,'Accom_Phase Schedule'!$C$58,"m") -> 0 | Q32: =(Q$2<'Accom_Phase Schedule'!$C$58)*-$E32/DATEDIF($L$2,'Accom_Phase Schedule'!$C$58,"m") -> 0 | R32: =(R$2<'Accom_Phase Schedule'!$C$58)*-$E32/DATEDIF($L$2,'Accom_Phase Schedule'!$C$58,"m") -> 0 | S32: =(S$2<'Accom_Phase Schedule'!$C$58)*-$E32/DATEDIF($L$2,'Accom_Phase Schedule'!$C$58,"m") -> 0 | ... CU32: =(CU$2<'Accom_Phase Schedule'!$C$58)*-$E32/DATEDIF($L$2,'Accom_Phase Schedule'!$C$58,"m") -> 0
B33: Civil Engineering | C33: 0.003 | D33: of construction | E33: =C33*$E$66 -> 286500 | H33: =B33 -> Civil Engineering | I33: =SUM(K33:CU33) -> -286500 | L33: =(L$2<'Accom_Phase Schedule'!$C$58)*-$E33/DATEDIF($L$2,'Accom_Phase Schedule'!$C$58,"m") -> -71625 | M33: =(M$2<'Accom_Phase Schedule'!$C$58)*-$E33/DATEDIF($L$2,'Accom_Phase Schedule'!$C$58,"m") -> -71625 | N33: =(N$2<'Accom_Phase Schedule'!$C$58)*-$E33/DATEDIF($L$2,'Accom_Phase Schedule'!$C$58,"m") -> -71625 | O33: =(O$2<'Accom_Phase Schedule'!$C$58)*-$E33/DATEDIF($L$2,'Accom_Phase Schedule'!$C$58,"m") -> -71625 | P33: =(P$2<'Accom_Phase Schedule'!$C$58)*-$E33/DATEDIF($L$2,'Accom_Phase Schedule'!$C$58,"m") -> 0 | Q33: =(Q$2<'Accom_Phase Schedule'!$C$58)*-$E33/DATEDIF($L$2,'Accom_Phase Schedule'!$C$58,"m") -> 0 | R33: =(R$2<'Accom_Phase Schedule'!$C$58)*-$E33/DATEDIF($L$2,'Accom_Phase Schedule'!$C$58,"m") -> 0 | S33: =(S$2<'Accom_Phase Schedule'!$C$58)*-$E33/DATEDIF($L$2,'Accom_Phase Schedule'!$C$58,"m") -> 0 | ... CU33: =(CU$2<'Accom_Phase Schedule'!$C$58)*-$E33/DATEDIF($L$2,'Accom_Phase Schedule'!$C$58,"m") -> 0
B34: Quanity Surveyance | C34: 0.0035 | D34: of construction | E34: =C34*$E$66 -> 334250 | H34: =B34 -> Quanity Surveyance | I34: =SUM(K34:CU34) -> -334250 | L34: =(L$2<'Accom_Phase Schedule'!$C$58)*-$E34/DATEDIF($L$2,'Accom_Phase Schedule'!$C$58,"m") -> -83562.5 | M34: =(M$2<'Accom_Phase Schedule'!$C$58)*-$E34/DATEDIF($L$2,'Accom_Phase Schedule'!$C$58,"m") -> -83562.5 | N34: =(N$2<'Accom_Phase Schedule'!$C$58)*-$E34/DATEDIF($L$2,'Accom_Phase Schedule'!$C$58,"m") -> -83562.5 | O34: =(O$2<'Accom_Phase Schedule'!$C$58)*-$E34/DATEDIF($L$2,'Accom_Phase Schedule'!$C$58,"m") -> -83562.5 | P34: =(P$2<'Accom_Phase Schedule'!$C$58)*-$E34/DATEDIF($L$2,'Accom_Phase Schedule'!$C$58,"m") -> 0 | Q34: =(Q$2<'Accom_Phase Schedule'!$C$58)*-$E34/DATEDIF($L$2,'Accom_Phase Schedule'!$C$58,"m") -> 0 | R34: =(R$2<'Accom_Phase Schedule'!$C$58)*-$E34/DATEDIF($L$2,'Accom_Phase Schedule'!$C$58,"m") -> 0 | S34: =(S$2<'Accom_Phase Schedule'!$C$58)*-$E34/DATEDIF($L$2,'Accom_Phase Schedule'!$C$58,"m") -> 0 | ... CU34: =(CU$2<'Accom_Phase Schedule'!$C$58)*-$E34/DATEDIF($L$2,'Accom_Phase Schedule'!$C$58,"m") -> 0
B35: Fire Cert | C35: 250 | D35: per unit | E35: =C35*'Accom_Phase Schedule'!$C$45 -> 125000 | H35: =B35 -> Fire Cert | I35: =SUM(K35:CU35) -> -125000 | L35: =(L$2<'Accom_Phase Schedule'!$C$58)*-$E35/DATEDIF($L$2,'Accom_Phase Schedule'!$C$58,"m") -> -31250 | M35: =(M$2<'Accom_Phase Schedule'!$C$58)*-$E35/DATEDIF($L$2,'Accom_Phase Schedule'!$C$58,"m") -> -31250 | N35: =(N$2<'Accom_Phase Schedule'!$C$58)*-$E35/DATEDIF($L$2,'Accom_Phase Schedule'!$C$58,"m") -> -31250 | O35: =(O$2<'Accom_Phase Schedule'!$C$58)*-$E35/DATEDIF($L$2,'Accom_Phase Schedule'!$C$58,"m") -> -31250 | P35: =(P$2<'Accom_Phase Schedule'!$C$58)*-$E35/DATEDIF($L$2,'Accom_Phase Schedule'!$C$58,"m") -> 0 | Q35: =(Q$2<'Accom_Phase Schedule'!$C$58)*-$E35/DATEDIF($L$2,'Accom_Phase Schedule'!$C$58,"m") -> 0 | R35: =(R$2<'Accom_Phase Schedule'!$C$58)*-$E35/DATEDIF($L$2,'Accom_Phase Schedule'!$C$58,"m") -> 0 | S35: =(S$2<'Accom_Phase Schedule'!$C$58)*-$E35/DATEDIF($L$2,'Accom_Phase Schedule'!$C$58,"m") -> 0 | ... CU35: =(CU$2<'Accom_Phase Schedule'!$C$58)*-$E35/DATEDIF($L$2,'Accom_Phase Schedule'!$C$58,"m") -> 0
B36: Accoustics | C36: 100 | D36: per unit | E36: =C36*'Accom_Phase Schedule'!$C$45 -> 50000 | H36: =B36 -> Accoustics | I36: =SUM(K36:CU36) -> -50000 | L36: =(L$2<'Accom_Phase Schedule'!$C$58)*-$E36/DATEDIF($L$2,'Accom_Phase Schedule'!$C$58,"m") -> -12500 | M36: =(M$2<'Accom_Phase Schedule'!$C$58)*-$E36/DATEDIF($L$2,'Accom_Phase Schedule'!$C$58,"m") -> -12500 | N36: =(N$2<'Accom_Phase Schedule'!$C$58)*-$E36/DATEDIF($L$2,'Accom_Phase Schedule'!$C$58,"m") -> -12500 | O36: =(O$2<'Accom_Phase Schedule'!$C$58)*-$E36/DATEDIF($L$2,'Accom_Phase Schedule'!$C$58,"m") -> -12500 | P36: =(P$2<'Accom_Phase Schedule'!$C$58)*-$E36/DATEDIF($L$2,'Accom_Phase Schedule'!$C$58,"m") -> 0 | Q36: =(Q$2<'Accom_Phase Schedule'!$C$58)*-$E36/DATEDIF($L$2,'Accom_Phase Schedule'!$C$58,"m") -> 0 | R36: =(R$2<'Accom_Phase Schedule'!$C$58)*-$E36/DATEDIF($L$2,'Accom_Phase Schedule'!$C$58,"m") -> 0 | S36: =(S$2<'Accom_Phase Schedule'!$C$58)*-$E36/DATEDIF($L$2,'Accom_Phase Schedule'!$C$58,"m") -> 0 | ... CU36: =(CU$2<'Accom_Phase Schedule'!$C$58)*-$E36/DATEDIF($L$2,'Accom_Phase Schedule'!$C$58,"m") -> 0
