Workbook

Sheet Level 4
F2: Legend
F3: Blue = Input
F4: Black = Output/Calculation
F5: New to Level 4
F6: Analysis Start Date | G6: 44197
B7: APPRAISAL | M7: CASH FLOW
B9: Accomodation Schedule | G9: Accomodation Schedule (Part V) | O9: Year | P9: 0 | Q9: 1 | R9: 1 | S9: 1 | T9: 1 | U9: 1 | V9: 1 | W9: 1 | X9: 1 | Y9: 1 | Z9: 1 | AA9: 1 | AB9: 1 | AC9: 2 | AD9: 2 | AE9: 2 | AF9: 2 | AG9: 2 | AH9: 2 | AI9: 2 | AJ9: 2 | AK9: 2 | AL9: 2 | AM9: 2 | AN9: 2 | AO9: 3 | AP9: 3 | AQ9: 3 | AR9: 3 | AS9: 3 | AT9: 3 | AU9: 3 | AV9: 3 | AW9: 3 | AX9: 3 | AY9: 3 | AZ9: 3 | BA9: 4 | BB9: 4 | BC9: 4 | BD9: 4 | BE9: 4 | BF9: 4 | BG9: 4 | BH9: 4 | BI9: 4 | BJ9: 4 | BK9: 4 | BL9: 4 | BM9: 5 | BN9: 5 | BO9: 5 | BP9: 5 | BQ9: 5 | BR9: 5 | BS9: 5 | BT9: 5 | BU9: 5 | BV9: 5 | BW9: 5 | BX9: 5 | BY9: 6 | BZ9: 6 | CA9: 6 | CB9: 6 | CC9: 6 | CD9: 6 | CE9: 6 | CF9: 6 | CG9: 6 | CH9: 6 | CI9: 6 | CJ9: 6 | CK9: 7 | CL9: 7 | CM9: 7 | CN9: 7 | CO9: 7 | CP9: 7 | CQ9: 7 | CR9: 7 | CS9: 7 | CT9: 7 | CU9: 7 | CV9: 7 | CW9: 8 | CX9: 8 | CY9: 8 | CZ9: 8 | DA9: 8 | DB9: 8 | DC9: 8 | DD9: 8 | DE9: 8 | DF9: 8 | DG9: 8 | DH9: 8 | DI9: 9 | DJ9: 9 | DK9: 9 | DL9: 9 | DM9: 9 | DN9: 9 | DO9: 9 | DP9: 9 | DQ9: 9 | DR9: 9 | DS9: 9 | DT9: 9 | DU9: 10 | DV9: 10 | DW9: 10 | DX9: 10 | DY9: 10 | DZ9: 10 | EA9: 10 | EB9: 10 | EC9: 10 | ED9: 10 | EE9: 10 | EF9: 10
O10: Month | P10: 0 | Q10: =P10+1 -> 1 | R10: =Q10+1 -> 2 | S10: =R10+1 -> 3 | T10: =S10+1 -> 4 | U10: =T10+1 -> 5 | V10: =U10+1 -> 6 | W10: =V10+1 -> 7 | X10: =W10+1 -> 8 | ... EF10: =EE10+1 -> 120
B11: Apartment Type | C11: # units | D11: Rent p/m | E11: Sqft NIA | G11: Apartment Type | H11: # units | I11: Rent p/m | J11: Sqft NIA | O11: Rental Growth | P11: 0 | Q11: =IF(Q9>P9,1+$H$32*(Q9-1),P11) -> 1 | R11: =IF(R9>Q9,1+$H$32*(R9-1),Q11) -> 1 | S11: =IF(S9>R9,1+$H$32*(S9-1),R11) -> 1 | T11: =IF(T9>S9,1+$H$32*(T9-1),S11) -> 1 | U11: =IF(U9>T9,1+$H$32*(U9-1),T11) -> 1 | V11: =IF(V9>U9,1+$H$32*(V9-1),U11) -> 1 | W11: =IF(W9>V9,1+$H$32*(W9-1),V11) -> 1 | X11: =IF(X9>W9,1+$H$32*(X9-1),W11) -> 1 | ... EF11: =IF(EF9>EE9,1+$H$32*(EF9-1),EE11) -> 1.27
B12: Studio | C12: 67 | D12: 1500 | E12: 450 | G12: Studio | H12: 8 | I12: =D12*(1-$H$20) -> 1200 | J12: =E12 -> 450 | O12: Rental Term | Q12: =IFERROR(DATEDIF($D$30,Q15,"y")+1,0) -> 0 | R12: =IFERROR(DATEDIF($D$30,R15,"y")+1,0) -> 0 | S12: =IFERROR(DATEDIF($D$30,S15,"y")+1,0) -> 0 | T12: =IFERROR(DATEDIF($D$30,T15,"y")+1,0) -> 0 | U12: =IFERROR(DATEDIF($D$30,U15,"y")+1,0) -> 0 | V12: =IFERROR(DATEDIF($D$30,V15,"y")+1,0) -> 0 | W12: =IFERROR(DATEDIF($D$30,W15,"y")+1,0) -> 0 | X12: =IFERROR(DATEDIF($D$30,X15,"y")+1,0) -> 0 | ... EF12: =IFERROR(DATEDIF($D$30,EF15,"y")+1,0) -> 9
B13: 1 Bed Apart. | C13: 136 | D13: 1800 | E13: 550 | G13: 1 Bed Apart. | H13: 14 | I13: =D13*(1-$H$20) -> 1440 | J13: =E13 -> 550 | O13: Actual Rent | Q13: =IF(Q12>P12,Q11,P13) -> 0 | R13: =IF(R12>Q12,R11,Q13) -> 0 | S13: =IF(S12>R12,S11,R13) -> 0 | T13: =IF(T12>S12,T11,S13) -> 0 | U13: =IF(U12>T12,U11,T13) -> 0 | V13: =IF(V12>U12,V11,U13) -> 0 | W13: =IF(W12>V12,W11,V13) -> 0 | X13: =IF(X12>W12,X11,W13) -> 0 | ... EF13: =IF(EF12>EE12,EF11,EE13) -> 1.27
B14: 2 Bed Apart. | C14: 107 | D14: 2400 | E14: 750 | G14: 2 Bed Apart. | H14: 13 | I14: =D14*(1-$H$20) -> 1920 | J14: =E14 -> 750
B15: 3 Bed Apart. | C15: 23 | D15: 3000 | E15: 1000 | G15: 3 Bed Apart. | H15: 2 | I15: =D15*(1-$H$20) -> 2400 | J15: =E15 -> 1000 | P15: ='Level 4'!G6 -> 44197 | Q15: =EDATE(P15,1) -> 44228 | R15: =EDATE(Q15,1) -> 44256 | S15: =EDATE(R15,1) -> 44287 | T15: =EDATE(S15,1) -> 44317 | U15: =EDATE(T15,1) -> 44348 | V15: =EDATE(U15,1) -> 44378 | W15: =EDATE(V15,1) -> 44409 | X15: =EDATE(W15,1) -> 44440 | ... EF15: =EDATE(EE15,1) -> 47849
B16: Total | C16: =SUM(C12:C15) -> 333 | D16: =SUMPRODUCT(D12:D15,$C$12:$C$15) -> 671100 | E16: =SUMPRODUCT(E12:E15,$C$12:$C$15) -> 208200 | G16: Total | H16: =SUM(H12:H15) -> 37 | I16: =SUMPRODUCT(I12:I15,$H$12:$H$15) -> 59520 | J16: =SUMPRODUCT(J12:J15,$H$12:$H$15) -> 23050 | N16: Total
M17: ='Level 4'!B21 -> Purchase Price | N17: =SUM(P17:EF17) -> -25000000 | P17: =-'Level 4'!D21 -> -25000000
B18: Costs | M18: ='Level 4'!B22 -> Stamp Duty | N18: =SUM(P18:EF18) -> -1250000 | P18: =-'Level 4'!D22 -> -1250000
G19: Part V Method of Disposal | H19: Lease with Council | M19: ='Level 4'!B23 -> Legal | N19: =SUM(P19:EF19) -> -50000 | P19: =-'Level 4'!D23 -> -50000
B20: Purchase Costs | G20: Discount on rent | H20: 0.2 | M20: ='Level 4'!B24 -> Due Diligence | N20: =SUM(P20:EF20) -> -50000 | P20: =-'Level 4'!D24 -> -50000
B21: Purchase Price | D21: 25000000 | G21: Cap value psft | H21: 400
B22: Stamp Duty | C22: 0.05 | D22: =D21*C22 -> 1250000 | M22: Hard Build Costs | N22: =SUM(P22:EF22) -> -55000000 | Q22: =IF(AND(Q$15>=$D$28,Q$15<$D$30),-$D$39*(NORMDIST(DATEDIF($D$28,Q15,"m")+1,$C$34,$C$35,1)-NORMSDIST(-$C$33))/(NORMSDIST($C$33)-NORMSDIST(-$C$33))-SUM($O$22:P22),0) -> 0 | R22: =IF(AND(R$15>=$D$28,R$15<$D$30),-$D$39*(NORMDIST(DATEDIF($D$28,R15,"m")+1,$C$34,$C$35,1)-NORMSDIST(-$C$33))/(NORMSDIST($C$33)-NORMSDIST(-$C$33))-SUM($O$22:Q22),0) -> -136795.86 | S22: =IF(AND(S$15>=$D$28,S$15<$D$30),-$D$39*(NORMDIST(DATEDIF($D$28,S15,"m")+1,$C$34,$C$35,1)-NORMSDIST(-$C$33))/(NORMSDIST($C$33)-NORMSDIST(-$C$33))-SUM($O$22:R22),0) -> -330063.25 | T22: =IF(AND(T$15>=$D$28,T$15<$D$30),-$D$39*(NORMDIST(DATEDIF($D$28,T15,"m")+1,$C$34,$C$35,1)-NORMSDIST(-$C$33))/(NORMSDIST($C$33)-NORMSDIST(-$C$33))-SUM($O$22:S22),0) -> -713340.06 | U22: =IF(AND(U$15>=$D$28,U$15<$D$30),-$D$39*(NORMDIST(DATEDIF($D$28,U15,"m")+1,$C$34,$C$35,1)-NORMSDIST(-$C$33))/(NORMSDIST($C$33)-NORMSDIST(-$C$33))-SUM($O$22:T22),0) -> -1380940.4 | V22: =IF(AND(V$15>=$D$28,V$15<$D$30),-$D$39*(NORMDIST(DATEDIF($D$28,V15,"m")+1,$C$34,$C$35,1)-NORMSDIST(-$C$33))/(NORMSDIST($C$33)-NORMSDIST(-$C$33))-SUM($O$22:U22),0) -> -2394612.7 | W22: =IF(AND(W$15>=$D$28,W$15<$D$30),-$D$39*(NORMDIST(DATEDIF($D$28,W15,"m")+1,$C$34,$C$35,1)-NORMSDIST(-$C$33))/(NORMSDIST($C$33)-NORMSDIST(-$C$33))-SUM($O$22:V22),0) -> -3719463.7 | X22: =IF(AND(X$15>=$D$28,X$15<$D$30),-$D$39*(NORMDIST(DATEDIF($D$28,X15,"m")+1,$C$34,$C$35,1)-NORMSDIST(-$C$33))/(NORMSDIST($C$33)-NORMSDIST(-$C$33))-SUM($O$22:W22),0) -> -5175022.1 | ... EF22: =IF(AND(EF$15>=$D$28,EF$15<$D$30),-$D$39*(NORMDIST(DATEDIF($D$28,EF15,"m")+1,$C$34,$C$35,1)-NORMSDIST(-$C$33))/(NORMSDIST($C$33)-NORMSDIST(-$C$33))-SUM($O$22:EE22),0) -> 0
B23: Legal | D23: 50000 | G23: Operational Income | M23: Soft Build Costs | N23: =SUM(P23:EF23) -> -5500000 | Q23: =Q22*$C$40 -> 0 | R23: =R22*$C$40 -> -13679.586 | S23: =S22*$C$40 -> -33006.325 | T23: =T22*$C$40 -> -71334.006 | U23: =U22*$C$40 -> -138094.04 | V23: =V22*$C$40 -> -239461.27 | W23: =W22*$C$40 -> -371946.37 | X23: =X22*$C$40 -> -517502.21 | ... EF23: =EF22*$C$40 -> 0
B24: Due Diligence | D24: 50000
B25: Total Purchase Cost | E25: =SUM(D21:D24) -> 26350000 | G25: Initial Rental Income p/a | I25: =D16*12+(H19="Lease with Council")*I16*12 -> 8767440 | M25: Rental Income | N25: =SUM(P25:EF25) -> 47782548 | Q25: =IF(AND(Q15>=$D$30,Q15<EDATE($D$30,$H$33*12)),$I$25/12*Q13,0) -> 0 | R25: =IF(AND(R15>=$D$30,R15<EDATE($D$30,$H$33*12)),$I$25/12*R13,0) -> 0 | S25: =IF(AND(S15>=$D$30,S15<EDATE($D$30,$H$33*12)),$I$25/12*S13,0) -> 0 | T25: =IF(AND(T15>=$D$30,T15<EDATE($D$30,$H$33*12)),$I$25/12*T13,0) -> 0 | U25: =IF(AND(U15>=$D$30,U15<EDATE($D$30,$H$33*12)),$I$25/12*U13,0) -> 0 | V25: =IF(AND(V15>=$D$30,V15<EDATE($D$30,$H$33*12)),$I$25/12*V13,0) -> 0 | W25: =IF(AND(W15>=$D$30,W15<EDATE($D$30,$H$33*12)),$I$25/12*W13,0) -> 0 | X25: =IF(AND(X15>=$D$30,X15<EDATE($D$30,$H$33*12)),$I$25/12*X13,0) -> 0 | ... EF25: =IF(AND(EF15>=$D$30,EF15<EDATE($D$30,$H$33*12)),$I$25/12*EF13,0) -> 0
M26: Management Cost | N26: =SUM(P26:EF26) -> -11945637 | Q26: =Q25*-$H$29 -> 0 | R26: =R25*-$H$29 -> 0 | S26: =S25*-$H$29 -> 0 | T26: =T25*-$H$29 -> 0 | U26: =U25*-$H$29 -> 0 | V26: =V25*-$H$29 -> 0 | W26: =W25*-$H$29 -> 0 | X26: =X25*-$H$29 -> 0 | ... EF26: =EF25*-$H$29 -> 0
B27: Build GIA | D27: 275000
B28: Build Start Date | D28: 44256 | G28: Rental Income on PC | I28: =INDEX(P25:EF25,MATCH(1,P12:EF12,0))*12 -> 9030463.2
B29: Build program | D29: 18 | G29: Management Cost | H29: 0.25 | I29: =I28*H29 -> 2257615.8 | M29: Part V Sale | N29: =SUM(P29:EF29) -> 0 | Q29: =IF(AND(Q15=$D$30,$H$19="Sale on PC"),$I$51,0) -> 0 | R29: =IF(AND(R15=$D$30,$H$19="Sale on PC"),$I$51,0) -> 0 | S29: =IF(AND(S15=$D$30,$H$19="Sale on PC"),$I$51,0) -> 0 | T29: =IF(AND(T15=$D$30,$H$19="Sale on PC"),$I$51,0) -> 0 | U29: =IF(AND(U15=$D$30,$H$19="Sale on PC"),$I$51,0) -> 0 | V29: =IF(AND(V15=$D$30,$H$19="Sale on PC"),$I$51,0) -> 0 | W29: =IF(AND(W15=$D$30,$H$19="Sale on PC"),$I$51,0) -> 0 | X29: =IF(AND(X15=$D$30,$H$19="Sale on PC"),$I$51,0) -> 0 | ... EF29: =IF(AND(EF15=$D$30,$H$19="Sale on PC"),$I$51,0) -> 0
B30: PC | D30: =EDATE(D28,D29) -> 44805 | G30: NOI p/a | I30: =I25-I29 -> 6509824.2 | M30: Sale | N30: =SUM(P30:EF30) -> 1.5123834e+08 | Q30: =(Q15=$H$50)*$I$54 -> 0 | R30: =(R15=$H$50)*$I$54 -> 0 | S30: =(S15=$H$50)*$I$54 -> 0 | T30: =(T15=$H$50)*$I$54 -> 0 | U30: =(U15=$H$50)*$I$54 -> 0 | V30: =(V15=$H$50)*$I$54 -> 0 | W30: =(W15=$H$50)*$I$54 -> 0 | X30: =(X15=$H$50)*$I$54 -> 0 | ... EF30: =(EF15=$H$50)*$I$54 -> 0
M31: Sales Cost | N31: =SUM(P31:EF31) -> -3024766.8 | Q31: =SUM(Q29:Q30)*-$H$55 -> 0 | R31: =SUM(R29:R30)*-$H$55 -> 0 | S31: =SUM(S29:S30)*-$H$55 -> 0 | T31: =SUM(T29:T30)*-$H$55 -> 0 | U31: =SUM(U29:U30)*-$H$55 -> 0 | V31: =SUM(V29:V30)*-$H$55 -> 0 | W31: =SUM(W29:W30)*-$H$55 -> 0 | X31: =SUM(X29:X30)*-$H$55 -> 0 | ... EF31: =SUM(EF29:EF30)*-$H$55 -> 0
B32: Constrction Cost S-Curve | G32: Rental Growth p/a | H32: 0.03
B33: Max Z | C33: 3 | G33: Years held after PC | H33: 5 | M33: Cash flow before finance | N33: =SUM(N17:N32) -> 97200484 | P33: =SUM(P17:P32) -> -26350000 | Q33: =SUM(Q17:Q32) -> 0 | R33: =SUM(R17:R32) -> -150475.45 | S33: =SUM(S17:S32) -> -363069.57 | T33: =SUM(T17:T32) -> -784674.06 | U33: =SUM(U17:U32) -> -1519034.4 | V33: =SUM(V17:V32) -> -2634073.9 | W33: =SUM(W17:W32) -> -4091410 | ... EF33: =SUM(EF17:EF32) -> 0
B34: Mean | C34: =D29/2 -> 9
B35: Standard Deviation | C35: =C34/C33 -> 3 | G35: Total Income from Operations | J35: =SUM(N25:N26) -> 35836911 | M35: Investment Finance
M36: Investment Finance Drawdown | P36: =(P15=$D$30)*$I$39 -> 0 | Q36: =(Q15=$D$30)*$I$39 -> 0 | R36: =(R15=$D$30)*$I$39 -> 0 | S36: =(S15=$D$30)*$I$39 -> 0 | T36: =(T15=$D$30)*$I$39 -> 0 | U36: =(U15=$D$30)*$I$39 -> 0 | V36: =(V15=$D$30)*$I$39 -> 0 | W36: =(W15=$D$30)*$I$39 -> 0 | ... EF36: =(EF15=$D$30)*$I$39 -> 0
B37: Build Costs | G37: Investment Finance | M37: Beginning Balance | P37: =P36+O41 -> 0 | Q37: =Q36+P41 -> 0 | R37: =R36+Q41 -> 0 | S37: =S36+R41 -> 0 | T37: =T36+S41 -> 0 | U37: =U36+T41 -> 0 | V37: =V36+U41 -> 0 | W37: =W36+V41 -> 0 | ... EF37: =EF36+EE41 -> 0
B38: Square foot | D38: =D27 -> 275000 | M38: Payment | P38: =IF(P15=$H$50,P37+P37*((1+$H$40)^(1/12)-1),(P37>0)*-PMT($H$40/12,$H$41*12,$I$39)) -> 0 | Q38: =IF(Q15=$H$50,Q37+Q37*((1+$H$40)^(1/12)-1),(Q37>0)*-PMT($H$40/12,$H$41*12,$I$39)) -> 0 | R38: =IF(R15=$H$50,R37+R37*((1+$H$40)^(1/12)-1),(R37>0)*-PMT($H$40/12,$H$41*12,$I$39)) -> 0 | S38: =IF(S15=$H$50,S37+S37*((1+$H$40)^(1/12)-1),(S37>0)*-PMT($H$40/12,$H$41*12,$I$39)) -> 0 | T38: =IF(T15=$H$50,T37+T37*((1+$H$40)^(1/12)-1),(T37>0)*-PMT($H$40/12,$H$41*12,$I$39)) -> 0 | U38: =IF(U15=$H$50,U37+U37*((1+$H$40)^(1/12)-1),(U37>0)*-PMT($H$40/12,$H$41*12,$I$39)) -> 0 | V38: =IF(V15=$H$50,V37+V37*((1+$H$40)^(1/12)-1),(V37>0)*-PMT($H$40/12,$H$41*12,$I$39)) -> 0 | W38: =IF(W15=$H$50,W37+W37*((1+$H$40)^(1/12)-1),(W37>0)*-PMT($H$40/12,$H$41*12,$I$39)) -> 0 | ... EF38: =IF(EF15=$H$50,EF37+EF37*((1+$H$40)^(1/12)-1),(EF37>0)*-PMT($H$40/12,$H$41*12,$I$39)) -> 0
B39: Hard Build cost psf | C39: 200 | D39: =D38*C39 -> 55000000 | G39: Loan to value | H39: 0.5 | I39: =(I30/H53)*H39 -> 65098242 | M39: Interest | N39: =SUM(P39:EF39) -> 7696098.5 | P39: =P37*((1+$H$40)^(1/12)-1) -> 0 | Q39: =Q37*((1+$H$40)^(1/12)-1) -> 0 | R39: =R37*((1+$H$40)^(1/12)-1) -> 0 | S39: =S37*((1+$H$40)^(1/12)-1) -> 0 | T39: =T37*((1+$H$40)^(1/12)-1) -> 0 | U39: =U37*((1+$H$40)^(1/12)-1) -> 0 | V39: =V37*((1+$H$40)^(1/12)-1) -> 0 | W39: =W37*((1+$H$40)^(1/12)-1) -> 0 | ... EF39: =EF37*((1+$H$40)^(1/12)-1) -> 0
B40: Soft Build Costs | C40: 0.1 | D40: =D39*C40 -> 5500000 | G40: Interest | H40: 0.025 | J40: =SUM(P39:EF39) -> 7696098.5 | M40: Capital Payment | P40: =P38-P39 -> 0 | Q40: =Q38-Q39 -> 0 | R40: =R38-R39 -> 0 | S40: =S38-S39 -> 0 | T40: =T38-T39 -> 0 | U40: =U38-U39 -> 0 | V40: =V38-V39 -> 0 | W40: =W38-W39 -> 0 | ... EF40: =EF38-EF39 -> 0
B41: Total Build Cost | E41: =SUM(D39:D40) -> 60500000 | G41: Amortisation | H41: 30 | M41: Ending Balance | P41: =P37-P40 -> 0 | Q41: =Q37-Q40 -> 0 | R41: =R37-R40 -> 0 | S41: =S37-S40 -> 0 | T41: =T37-T40 -> 0 | U41: =U37-U40 -> 0 | V41: =V37-V40 -> 0 | W41: =W37-W40 -> 0 | ... EF41: =EF37-EF40 -> 0
G42: Interest payment p/a | H42: =I39*H40 -> 1627456.1
...
